BEGIN:VCALENDAR
VERSION:2.0
PRODID:-//Sổ Tay Công Giáo - ECPv6.8.3//NONSGML v1.0//EN
CALSCALE:GREGORIAN
METHOD:PUBLISH
X-WR-CALNAME:Sổ Tay Công Giáo
X-ORIGINAL-URL:https://sotayconggiao.com
X-WR-CALDESC:Sự kiện cho Sổ Tay Công Giáo
REFRESH-INTERVAL;VALUE=DURATION:PT1H
X-Robots-Tag:noindex
X-PUBLISHED-TTL:PT1H
BEGIN:VTIMEZONE
TZID:Asia/Ho_Chi_Minh
BEGIN:STANDARD
TZOFFSETFROM:+0700
TZOFFSETTO:+0700
TZNAME:+07
DTSTART:20270101T000000
END:STANDARD
END:VTIMEZONE
BEGIN:VEVENT
DTSTART;VALUE=DATE:20270203
DTEND;VALUE=DATE:20270204
DTSTAMP:20260426T103439
CREATED:20241214T001451Z
LAST-MODIFIED:20250214T192335Z
UID:10001092-1801612800-1801699199@sotayconggiao.com
SUMMARY:Thánh vịnh tuần IV. Thánh Blasiô\, giám mục\, tử đạo. Thánh Ansgariô\, giám mục
DESCRIPTION:
URL:https://sotayconggiao.com/event/thanh-vinh-tuan-iv-thanh-blasio-giam-muc-tu-dao-thanh-ansgario-giam-muc/2027-02-03/
CATEGORIES:Lễ thường
ATTACH;FMTTYPE=image/jpeg:https://sotayconggiao.com/wp-content/uploads/2024/12/hanh-Blasio-giam-muc-tu-dao.-Thanh-Ansgario-giam-muc.jpg
END:VEVENT
BEGIN:VEVENT
DTSTART;VALUE=DATE:20270207
DTEND;VALUE=DATE:20270208
DTSTAMP:20260426T103439
CREATED:20241125T010426Z
LAST-MODIFIED:20250214T192306Z
UID:10001087-1801958400-1802044799@sotayconggiao.com
SUMMARY:Chúa Nhật IV Thường Niên. Dâng Chúa Giêsu Trong Đền Thánh (Lễ Nến)
DESCRIPTION:
URL:https://sotayconggiao.com/event/chua-nhat-iv-thuong-nien-dang-chua-giesu-trong-den-thanh-le-nen/2027-02-07/
CATEGORIES:Lễ Kính,Thường Niên
ATTACH;FMTTYPE=image/jpeg:https://sotayconggiao.com/wp-content/uploads/2024/11/dang-Chua-Giesu-trong-den-thanh-800x445-1.jpg
END:VEVENT
BEGIN:VEVENT
DTSTART;VALUE=DATE:20290331
DTEND;VALUE=DATE:20290401
DTSTAMP:20260426T103439
CREATED:20250213T083216Z
LAST-MODIFIED:20250214T181705Z
UID:10001022-1869609600-1869695999@sotayconggiao.com
SUMMARY:Thứ Bảy trong tuần thứ Ba Mùa Chay
DESCRIPTION:
URL:https://sotayconggiao.com/event/thu-bay-trong-tuan-thu-ba-mua-chay/2029-03-31/
CATEGORIES:Lễ thường
ATTACH;FMTTYPE=image/jpeg:https://sotayconggiao.com/wp-content/uploads/2025/02/thu-7-sau-cn-3-mc-a-1-3-2023.jpg
END:VEVENT
END:VCALENDAR