BEGIN:VCALENDAR
VERSION:2.0
PRODID:-//Sổ Tay Công Giáo - ECPv6.8.3//NONSGML v1.0//EN
CALSCALE:GREGORIAN
METHOD:PUBLISH
X-ORIGINAL-URL:https://sotayconggiao.com
X-WR-CALDESC:Sự kiện cho Sổ Tay Công Giáo
REFRESH-INTERVAL;VALUE=DURATION:PT1H
X-Robots-Tag:noindex
X-PUBLISHED-TTL:PT1H
BEGIN:VTIMEZONE
TZID:Asia/Ho_Chi_Minh
BEGIN:STANDARD
TZOFFSETFROM:+0700
TZOFFSETTO:+0700
TZNAME:+07
DTSTART:20270101T000000
END:STANDARD
END:VTIMEZONE
BEGIN:VEVENT
DTSTART;VALUE=DATE:20270812
DTEND;VALUE=DATE:20270813
DTSTAMP:20260425T220320
CREATED:20250214T053053Z
LAST-MODIFIED:20250214T053053Z
UID:10000672-1818028800-1818115199@sotayconggiao.com
SUMMARY:Thánh Joanna Phanxica Chantal\, nữ tu. Thánh Giacôbê Đỗ Mai Năm\, linh mục; thánh Antôn Nguyễn Tiến Đích\, chánh trương; thánh Micae Nguyễn Huy Mỹ\, lý trưởng\, tử đạo († 1838)
DESCRIPTION:
URL:https://sotayconggiao.com/event/thanh-joanna-phanxica-chantal-nu-tu-thanh-giacobe-do-mai-nam-linh-muc-thanh-anton-nguyen-tien-dich-chanh-truong-thanh-micae-nguyen-huy-my-ly-truong-tu-dao-%e2%80%a0-1838/2027-08-12/
CATEGORIES:Lễ thường
ATTACH;FMTTYPE=image/jpeg:https://sotayconggiao.com/wp-content/uploads/2025/02/thanh-anton-nguyen-tien-dich-thanh-micae-nguyen-huy-my-va-thanh-giacobe-do-mai-nam-ngay-12-8-video.jpg
END:VEVENT
BEGIN:VEVENT
DTSTART;VALUE=DATE:20270813
DTEND;VALUE=DATE:20270814
DTSTAMP:20260425T220320
CREATED:20250214T053227Z
LAST-MODIFIED:20250214T053227Z
UID:10000677-1818115200-1818201599@sotayconggiao.com
SUMMARY:Thánh Pontianô\, giáo hoàng và thánh Hippôlytô\, linh mục\, tử đạo
DESCRIPTION:
URL:https://sotayconggiao.com/event/thanh-pontiano-giao-hoang-va-thanh-hippolyto-linh-muc-tu-dao/2027-08-13/
CATEGORIES:Lễ thường
ATTACH;FMTTYPE=image/jpeg:https://sotayconggiao.com/wp-content/uploads/2025/02/Thanh-Pontiano-Hippolito.jpg
END:VEVENT
BEGIN:VEVENT
DTSTART;VALUE=DATE:20270814
DTEND;VALUE=DATE:20270815
DTSTAMP:20260425T220320
CREATED:20250214T053436Z
LAST-MODIFIED:20250214T053436Z
UID:10000682-1818201600-1818287999@sotayconggiao.com
SUMMARY:Thánh Maximilianô Maria Kolbê\, linh mục\, tử đạo. Chiều: LỄ VỌNG ĐỨC MẸ LÊN TRỜI (Tr)
DESCRIPTION:
URL:https://sotayconggiao.com/event/thanh-maximiliano-maria-kolbe-linh-muc-tu-dao-chieu-le-vong-duc-me-len-troi-tr/2027-08-14/
CATEGORIES:Lễ Nhớ
ATTACH;FMTTYPE=image/jpeg:https://sotayconggiao.com/wp-content/uploads/2025/02/Thanh-Maximiliano-Maria-Kolbe-linh-muc-tu-dao.jpg
END:VEVENT
BEGIN:VEVENT
DTSTART;VALUE=DATE:20270815
DTEND;VALUE=DATE:20270816
DTSTAMP:20260425T220320
CREATED:20250214T054054Z
LAST-MODIFIED:20250214T054054Z
UID:10000697-1818288000-1818374399@sotayconggiao.com
SUMMARY:CHÚA NHẬT XX THƯỜNG NIÊN. Thánh vịnh tuần IV. Được cử hành lễ trọng (Tr): ĐỨC MẸ HỒN XÁC LÊN TRỜI
DESCRIPTION:
URL:https://sotayconggiao.com/event/chua-nhat-xx-thuong-nien-thanh-vinh-tuan-iv-duoc-cu-hanh-le-trong-tr-duc-me-hon-xac-len-troi/2027-08-15/
CATEGORIES:Lễ Trọng
ATTACH;FMTTYPE=image/webp:https://sotayconggiao.com/wp-content/uploads/2025/02/Duc-Me-linh-hon-va-xac-len-troi.webp
END:VEVENT
BEGIN:VEVENT
DTSTART;TZID=Asia/Ho_Chi_Minh:20270815T080000
DTEND;TZID=Asia/Ho_Chi_Minh:20270815T170000
DTSTAMP:20260425T220320
CREATED:20250214T053653Z
LAST-MODIFIED:20250214T053653Z
UID:10000687-1818316800-1818349200@sotayconggiao.com
SUMMARY:ĐỨC MẸ LÊN TRỜI
DESCRIPTION:
URL:https://sotayconggiao.com/event/duc-me-len-troi/2027-08-15/
CATEGORIES:Lễ Trọng
ATTACH;FMTTYPE=image/webp:https://sotayconggiao.com/wp-content/uploads/2025/02/CN-XX-TN-T2-DUCME-LEN-TROI-2-scaled-1.webp
END:VEVENT
BEGIN:VEVENT
DTSTART;VALUE=DATE:20270816
DTEND;VALUE=DATE:20270817
DTSTAMP:20260425T220320
CREATED:20250214T053839Z
LAST-MODIFIED:20250214T053839Z
UID:10000692-1818374400-1818460799@sotayconggiao.com
SUMMARY:Thánh Stêphanô\, vua nước Hungari
DESCRIPTION:
URL:https://sotayconggiao.com/event/thanh-stephano-vua-nuoc-hungari/2027-08-16/
CATEGORIES:Lễ thường
ATTACH;FMTTYPE=image/jpeg:https://sotayconggiao.com/wp-content/uploads/2025/02/Stephano-Hungari_16August.jpg
END:VEVENT
BEGIN:VEVENT
DTSTART;VALUE=DATE:20270819
DTEND;VALUE=DATE:20270820
DTSTAMP:20260425T220320
CREATED:20250214T073849Z
LAST-MODIFIED:20250214T073849Z
UID:10000702-1818633600-1818719999@sotayconggiao.com
SUMMARY:Thánh Gioan Êuđê\, linh mục
DESCRIPTION:
URL:https://sotayconggiao.com/event/thanh-gioan-eude-linh-muc/2027-08-19/
CATEGORIES:Lễ thường
ATTACH;FMTTYPE=image/jpeg:https://sotayconggiao.com/wp-content/uploads/2025/02/Gioan-Eude_19August.jpg
END:VEVENT
BEGIN:VEVENT
DTSTART;VALUE=DATE:20270820
DTEND;VALUE=DATE:20270821
DTSTAMP:20260425T220320
CREATED:20250214T074106Z
LAST-MODIFIED:20250214T074106Z
UID:10000707-1818720000-1818806399@sotayconggiao.com
SUMMARY:Thánh Bernarđô\, viện phụ\, tiến sĩ Hội Thánh
DESCRIPTION:
URL:https://sotayconggiao.com/event/thanh-bernardo-vien-phu-tien-si-hoi-thanh/2027-08-20/
CATEGORIES:Lễ Nhớ
ATTACH;FMTTYPE=image/jpeg:https://sotayconggiao.com/wp-content/uploads/2025/02/Thanh-Bernardo-vien-phu-tien-si-Hoi-Thanh.jpeg
END:VEVENT
BEGIN:VEVENT
DTSTART;VALUE=DATE:20270821
DTEND;VALUE=DATE:20270822
DTSTAMP:20260425T220320
CREATED:20250214T074259Z
LAST-MODIFIED:20250214T074259Z
UID:10000712-1818806400-1818892799@sotayconggiao.com
SUMMARY:Thánh Giuse Đặng Đình Viên\, linh mục\, tử đạo († 1838). Thánh Piô X\, giáo hoàng (Tr)
DESCRIPTION:
URL:https://sotayconggiao.com/event/thanh-giuse-dang-dinh-vien-linh-muc-tu-dao-%e2%80%a0-1838-thanh-pio-x-giao-hoang-tr/2027-08-21/
CATEGORIES:Lễ Nhớ
ATTACH;FMTTYPE=image/jpeg:https://sotayconggiao.com/wp-content/uploads/2025/02/Thanh-Giuse-Dang-Dinh-Vien-linh-muc-tu-dao-†-1838.-Thanh-Pio-X-giao-hoang-Tr.jpg
END:VEVENT
BEGIN:VEVENT
DTSTART;VALUE=DATE:20290331
DTEND;VALUE=DATE:20290401
DTSTAMP:20260425T220320
CREATED:20250213T083216Z
LAST-MODIFIED:20250214T181705Z
UID:10001022-1869609600-1869695999@sotayconggiao.com
SUMMARY:Thứ Bảy trong tuần thứ Ba Mùa Chay
DESCRIPTION:
URL:https://sotayconggiao.com/event/thu-bay-trong-tuan-thu-ba-mua-chay/2029-03-31/
CATEGORIES:Lễ thường
ATTACH;FMTTYPE=image/jpeg:https://sotayconggiao.com/wp-content/uploads/2025/02/thu-7-sau-cn-3-mc-a-1-3-2023.jpg
END:VEVENT
END:VCALENDAR