BEGIN:VCALENDAR
VERSION:2.0
PRODID:-//Sổ Tay Công Giáo - ECPv6.8.3//NONSGML v1.0//EN
CALSCALE:GREGORIAN
METHOD:PUBLISH
X-ORIGINAL-URL:https://sotayconggiao.com
X-WR-CALDESC:Sự kiện cho Sổ Tay Công Giáo
REFRESH-INTERVAL;VALUE=DURATION:PT1H
X-Robots-Tag:noindex
X-PUBLISHED-TTL:PT1H
BEGIN:VTIMEZONE
TZID:Asia/Ho_Chi_Minh
BEGIN:STANDARD
TZOFFSETFROM:+0700
TZOFFSETTO:+0700
TZNAME:+07
DTSTART:20270101T000000
END:STANDARD
END:VTIMEZONE
BEGIN:VEVENT
DTSTART;VALUE=DATE:20270611
DTEND;VALUE=DATE:20270612
DTSTAMP:20260421T120040
CREATED:20250213T095114Z
LAST-MODIFIED:20250218T054151Z
UID:10000420-1812672000-1812758399@sotayconggiao.com
SUMMARY:THÁNH BARNABA\, TÔNG ĐỒ
DESCRIPTION:
URL:https://sotayconggiao.com/event/thanh-barnaba-tong-do/2027-06-11/
CATEGORIES:Lễ Kính
ATTACH;FMTTYPE=image/webp:https://sotayconggiao.com/wp-content/uploads/2025/02/11.6-Thanh-Ba-na-ba-6-6-2024.webp
END:VEVENT
BEGIN:VEVENT
DTSTART;VALUE=DATE:20270613
DTEND;VALUE=DATE:20270614
DTSTAMP:20260421T120040
CREATED:20250213T094805Z
LAST-MODIFIED:20250218T053934Z
UID:10000410-1812844800-1812931199@sotayconggiao.com
SUMMARY:CHÚA THÁNH THẦN HIỆN XUỐNG
DESCRIPTION:
URL:https://sotayconggiao.com/event/chua-thanh-than-hien-xuong/2027-06-13/
CATEGORIES:Lễ Trọng
ATTACH;FMTTYPE=image/webp:https://sotayconggiao.com/wp-content/uploads/2025/02/chua-thanh-than-hien-xuong-8-5-2024.webp
END:VEVENT
BEGIN:VEVENT
DTSTART;VALUE=DATE:20270613
DTEND;VALUE=DATE:20270614
DTSTAMP:20260421T120040
CREATED:20250213T095332Z
LAST-MODIFIED:20250213T095332Z
UID:10000425-1812844800-1812931199@sotayconggiao.com
SUMMARY:Thánh Antôn Pađôva\, linh mục\, tiến sĩ Hội Thánh
DESCRIPTION:
URL:https://sotayconggiao.com/event/thanh-anton-padova-linh-muc-tien-si-hoi-thanh/2027-06-13/
CATEGORIES:Lễ Nhớ
ATTACH;FMTTYPE=image/webp:https://sotayconggiao.com/wp-content/uploads/2025/02/13.6-Thanh-Anton-6-6-2024.webp
END:VEVENT
BEGIN:VEVENT
DTSTART;VALUE=DATE:20270616
DTEND;VALUE=DATE:20270617
DTSTAMP:20260421T120040
CREATED:20250213T100300Z
LAST-MODIFIED:20250218T054822Z
UID:10000435-1813104000-1813190399@sotayconggiao.com
SUMMARY:Thánh vịnh tuần III. Thánh Đaminh Nguyễn Huy Nguyên\, chánh trương; thánh Đaminh Nguyễn Đức Nhi\, giáo dân; thánh Đaminh Nguyễn Đức Mạo\, giáo dân; thánh Vinh Sơn Nguyễn Mạnh Tương\, chánh tổng; thánh Anrê Nguyễn Mạnh Tường\, giáo dân\, tử đạo († 1862)
DESCRIPTION:
URL:https://sotayconggiao.com/event/thanh-vinh-tuan-iii-thanh-daminh-nguyen-huy-nguyen-chanh-truong-thanh-daminh-nguyen-duc-nhi-giao-dan-thanh-daminh-nguyen-duc-mao-giao-dan-thanh-vinh-son-nguyen-manh-tuong-chanh-tong-thanh-anr/2027-06-16/
ATTACH;FMTTYPE=image/jpeg:https://sotayconggiao.com/wp-content/uploads/2025/02/Thanh-vinh-tuan-III.-tu-dao.jpg
END:VEVENT
BEGIN:VEVENT
DTSTART;VALUE=DATE:20270617
DTEND;VALUE=DATE:20270618
DTSTAMP:20260421T120040
CREATED:20250213T100417Z
LAST-MODIFIED:20250218T065314Z
UID:10000440-1813190400-1813276799@sotayconggiao.com
SUMMARY:Thánh Phêrô Phan Hữu Đa\, thợ mộc\, tử đạo († 1862)
DESCRIPTION:
URL:https://sotayconggiao.com/event/thanh-phero-phan-huu-da-tho-moc-tu-dao-%e2%80%a0-1862/2027-06-17/
CATEGORIES:Lễ thường
ATTACH;FMTTYPE=image/png:https://sotayconggiao.com/wp-content/uploads/2025/02/Thanh-Phero-Phan-Huu-Da-tho-moc-tu-dao-†-1862.png
END:VEVENT
BEGIN:VEVENT
DTSTART;VALUE=DATE:20270619
DTEND;VALUE=DATE:20270620
DTSTAMP:20260421T120040
CREATED:20250213T100529Z
LAST-MODIFIED:20250218T065401Z
UID:10000445-1813363200-1813449599@sotayconggiao.com
SUMMARY:Thánh Rômualđô\, viện phụ
DESCRIPTION:
URL:https://sotayconggiao.com/event/thanh-romualdo-vien-phu/2027-06-19/
ATTACH;FMTTYPE=image/jpeg:https://sotayconggiao.com/wp-content/uploads/2025/02/Romualdo.jpg
END:VEVENT
BEGIN:VEVENT
DTSTART;VALUE=DATE:20270620
DTEND;VALUE=DATE:20270621
DTSTAMP:20260421T120040
CREATED:20250213T100116Z
LAST-MODIFIED:20250218T054418Z
UID:10000430-1813449600-1813535999@sotayconggiao.com
SUMMARY:LỄ CHÚA BA NGÔI
DESCRIPTION:
URL:https://sotayconggiao.com/event/le-chua-ba-ngoi/2027-06-20/
CATEGORIES:Lễ Trọng
ATTACH;FMTTYPE=image/webp:https://sotayconggiao.com/wp-content/uploads/2025/02/le-chua-ba-ngoi-B-22-5-2024.webp
END:VEVENT
BEGIN:VEVENT
DTSTART;VALUE=DATE:20270621
DTEND;VALUE=DATE:20270622
DTSTAMP:20260421T120040
CREATED:20250213T100646Z
LAST-MODIFIED:20250218T065453Z
UID:10000450-1813536000-1813622399@sotayconggiao.com
SUMMARY:Thánh Luy Gônzaga\, tu sĩ
DESCRIPTION:
URL:https://sotayconggiao.com/event/thanh-luy-gonzaga-tu-si/2027-06-21/
CATEGORIES:Lễ Nhớ
ATTACH;FMTTYPE=image/jpeg:https://sotayconggiao.com/wp-content/uploads/2025/02/LuyGonzaga.jpg
END:VEVENT
BEGIN:VEVENT
DTSTART;VALUE=DATE:20270623
DTEND;VALUE=DATE:20270624
DTSTAMP:20260421T120040
CREATED:20250213T100953Z
LAST-MODIFIED:20250218T065735Z
UID:10000460-1813708800-1813795199@sotayconggiao.com
SUMMARY:Thánh vịnh tuần IV. Ban chiều: LỄ VỌNG SINH NHẬT THÁNH GIOAN TẨY GIẢ (Tr)
DESCRIPTION:
URL:https://sotayconggiao.com/event/thanh-vinh-tuan-iv-ban-chieu-le-vong-sinh-nhat-thanh-gioan-tay-gia-tr/2027-06-23/
CATEGORIES:Lễ Vọng
ATTACH;FMTTYPE=image/jpeg:https://sotayconggiao.com/wp-content/uploads/2025/02/Thanh-vinh-tuan-IV.-Ban-chieu-LE-VONG-SINH-NHAT-THANH-GIOAN-TAY-GIA-Tr.jpg
END:VEVENT
BEGIN:VEVENT
DTSTART;VALUE=DATE:20290331
DTEND;VALUE=DATE:20290401
DTSTAMP:20260421T120040
CREATED:20250213T083216Z
LAST-MODIFIED:20250214T181705Z
UID:10001022-1869609600-1869695999@sotayconggiao.com
SUMMARY:Thứ Bảy trong tuần thứ Ba Mùa Chay
DESCRIPTION:
URL:https://sotayconggiao.com/event/thu-bay-trong-tuan-thu-ba-mua-chay/2029-03-31/
CATEGORIES:Lễ thường
ATTACH;FMTTYPE=image/jpeg:https://sotayconggiao.com/wp-content/uploads/2025/02/thu-7-sau-cn-3-mc-a-1-3-2023.jpg
END:VEVENT
END:VCALENDAR