BEGIN:VCALENDAR
VERSION:2.0
PRODID:-//Sổ Tay Công Giáo - ECPv6.8.3//NONSGML v1.0//EN
CALSCALE:GREGORIAN
METHOD:PUBLISH
X-ORIGINAL-URL:https://sotayconggiao.com
X-WR-CALDESC:Sự kiện cho Sổ Tay Công Giáo
REFRESH-INTERVAL;VALUE=DURATION:PT1H
X-Robots-Tag:noindex
X-PUBLISHED-TTL:PT1H
BEGIN:VTIMEZONE
TZID:Asia/Ho_Chi_Minh
BEGIN:STANDARD
TZOFFSETFROM:+0700
TZOFFSETTO:+0700
TZNAME:+07
DTSTART:20270101T000000
END:STANDARD
END:VTIMEZONE
BEGIN:VEVENT
DTSTART;VALUE=DATE:20270415
DTEND;VALUE=DATE:20270416
DTSTAMP:20260423T023702
CREATED:20250213T084702Z
LAST-MODIFIED:20250214T183124Z
UID:10000227-1807747200-1807833599@sotayconggiao.com
SUMMARY:THỨ NĂM TUẦN THÁNH. Thánh lễ sáng: THÁNH LỄ LÀM PHÉP DẦU. Thánh lễ chiều: THÁNH LỄ TIỆC LY
DESCRIPTION:
URL:https://sotayconggiao.com/event/thu-nam-tuan-thanh-thanh-le-sang-thanh-le-lam-phep-dau-thanh-le-chieu-thanh-le-tiec-ly/2027-04-15/
ATTACH;FMTTYPE=image/jpeg:https://sotayconggiao.com/wp-content/uploads/2025/02/thu-nam-29-3-2023.jpg
END:VEVENT
BEGIN:VEVENT
DTSTART;VALUE=DATE:20270416
DTEND;VALUE=DATE:20270417
DTSTAMP:20260423T023702
CREATED:20250213T084824Z
LAST-MODIFIED:20250214T183235Z
UID:10000232-1807833600-1807919999@sotayconggiao.com
SUMMARY:THỨ SÁU TUẦN THÁNH. TƯỞNG NIỆM CUỘC THƯƠNG KHÓ CỦA CHÚA GIÊSU. Buộc giữ chay và kiêng thịt
DESCRIPTION:
URL:https://sotayconggiao.com/event/thu-sau-tuan-thanh-tuong-niem-cuoc-thuong-kho-cua-chua-giesu-buoc-giu-chay-va-kieng-thit/2027-04-16/
CATEGORIES:Lễ thường
ATTACH;FMTTYPE=image/webp:https://sotayconggiao.com/wp-content/uploads/2025/02/26-T6-TuanThanh-14-495x278-1.webp
END:VEVENT
BEGIN:VEVENT
DTSTART;VALUE=DATE:20270417
DTEND;VALUE=DATE:20270418
DTSTAMP:20260423T023702
CREATED:20250213T084940Z
LAST-MODIFIED:20250214T183425Z
UID:10000237-1807920000-1808006399@sotayconggiao.com
SUMMARY:THỨ BẢY TUẦN THÁNH
DESCRIPTION:
URL:https://sotayconggiao.com/event/thu-bay-tuan-thanh/2027-04-17/
CATEGORIES:Lễ thường
ATTACH;FMTTYPE=image/jpeg:https://sotayconggiao.com/wp-content/uploads/2025/02/thu-bay-tuan-thanh-28-3-2024.jpg
END:VEVENT
BEGIN:VEVENT
DTSTART;VALUE=DATE:20270418
DTEND;VALUE=DATE:20270419
DTSTAMP:20260423T023702
CREATED:20250213T085129Z
LAST-MODIFIED:20250214T183539Z
UID:10000242-1808006400-1808092799@sotayconggiao.com
SUMMARY:CHÚA NHẬT PHỤC SINH. MỪNG CHÚA GIÊSU SỐNG LẠI
DESCRIPTION:
URL:https://sotayconggiao.com/event/chua-nhat-phuc-sinh-mung-chua-giesu-song-lai/2027-04-18/
CATEGORIES:Lễ Trọng
ATTACH;FMTTYPE=image/jpeg:https://sotayconggiao.com/wp-content/uploads/2025/02/Chua-Phuc-sinh-2020.jpg
END:VEVENT
BEGIN:VEVENT
DTSTART;VALUE=DATE:20270419
DTEND;VALUE=DATE:20270425
DTSTAMP:20260423T023702
CREATED:20250213T085414Z
LAST-MODIFIED:20250214T183650Z
UID:10000247-1808092800-1808611199@sotayconggiao.com
SUMMARY:Tuần Bát Nhật Phục Sinh
DESCRIPTION:
URL:https://sotayconggiao.com/event/tuan-bat-nhat-phuc-sinhd/2027-04-19/
CATEGORIES:Mùa Phục Sinh
ATTACH;FMTTYPE=image/jpeg:https://sotayconggiao.com/wp-content/uploads/2025/02/doi-net-ve-tuan-bat-nhat.jpg
END:VEVENT
BEGIN:VEVENT
DTSTART;VALUE=DATE:20270425
DTEND;VALUE=DATE:20270426
DTSTAMP:20260423T023702
CREATED:20250213T085618Z
LAST-MODIFIED:20250214T183749Z
UID:10000252-1808611200-1808697599@sotayconggiao.com
SUMMARY:CHÚA NHẬT II PHỤC SINH. CHÚA NHẬT VỀ LÒNG THƯƠNG XÓT CỦA THIÊN CHÚA
DESCRIPTION:
URL:https://sotayconggiao.com/event/chua-nhat-ii-phuc-sinh-chua-nhat-ve-long-thuong-xot-cua-thien-chua/2027-04-25/
CATEGORIES:Lễ Trọng
ATTACH;FMTTYPE=image/jpeg:https://sotayconggiao.com/wp-content/uploads/2025/02/Chua-nhat-II-PS-nam-B-3-4-2024.jpg
END:VEVENT
BEGIN:VEVENT
DTSTART;VALUE=DATE:20270428
DTEND;VALUE=DATE:20270429
DTSTAMP:20260423T023702
CREATED:20250213T085747Z
LAST-MODIFIED:20250214T184049Z
UID:10000257-1808870400-1808956799@sotayconggiao.com
SUMMARY:Thánh vịnh tuần II. Thánh Phêrô Chanel\, linh mục\, tử đạo. Thánh Luy Grignion Montfort\, linh mục. Thánh Phaolô Phạm Khắc Khoan\, linh mục. Thánh Phêrô Nguyễn Văn Hiếu và thánh Gioan Baotixita Đinh Văn Thành\, thầy giảng\, tử đạo (1840)
DESCRIPTION:
URL:https://sotayconggiao.com/event/thanh-vinh-tuan-ii-thanh-phero-chanel-linh-muc-tu-dao-thanh-luy-grignion-montfort-linh-muc-thanh-phaolo-pham-khac-khoan-linh-muc-thanh-phero-nguyen-van-hieu-va-thanh-gioan-baotixita-dinh-van-t/2027-04-28/
CATEGORIES:Lễ Nhớ,Mùa Phục Sinh
ATTACH;FMTTYPE=image/jpeg:https://sotayconggiao.com/wp-content/uploads/2025/02/Thanh-Phero-Chanel.jpg
END:VEVENT
BEGIN:VEVENT
DTSTART;VALUE=DATE:20270429
DTEND;VALUE=DATE:20270430
DTSTAMP:20260423T023702
CREATED:20250213T085904Z
LAST-MODIFIED:20250214T184328Z
UID:10000262-1808956800-1809043199@sotayconggiao.com
SUMMARY:Thánh Catarina Siêna\, trinh nữ\, tiến sĩ Hội Thánh
DESCRIPTION:
URL:https://sotayconggiao.com/event/thanh-catarina-siena-trinh-nu-tien-si-hoi-thanh/2027-04-29/
CATEGORIES:Lễ Nhớ
ATTACH;FMTTYPE=image/jpeg:https://sotayconggiao.com/wp-content/uploads/2025/02/Thanh-Catarina-Siena-trinh-nu-tien-si-Hoi-Thanh.jpg
END:VEVENT
BEGIN:VEVENT
DTSTART;VALUE=DATE:20270430
DTEND;VALUE=DATE:20270501
DTSTAMP:20260423T023702
CREATED:20250213T090015Z
LAST-MODIFIED:20250214T184441Z
UID:10000267-1809043200-1809129599@sotayconggiao.com
SUMMARY:Thánh Piô V\, Giáo hoàng
DESCRIPTION:
URL:https://sotayconggiao.com/event/thanh-pio-v-giao-hoang/2027-04-30/
CATEGORIES:Lễ Nhớ
ATTACH;FMTTYPE=image/jpeg:https://sotayconggiao.com/wp-content/uploads/2025/02/Thanh-Pio-V-Giao-hoang.jpg
END:VEVENT
BEGIN:VEVENT
DTSTART;VALUE=DATE:20290331
DTEND;VALUE=DATE:20290401
DTSTAMP:20260423T023702
CREATED:20250213T083216Z
LAST-MODIFIED:20250214T181705Z
UID:10001022-1869609600-1869695999@sotayconggiao.com
SUMMARY:Thứ Bảy trong tuần thứ Ba Mùa Chay
DESCRIPTION:
URL:https://sotayconggiao.com/event/thu-bay-trong-tuan-thu-ba-mua-chay/2029-03-31/
CATEGORIES:Lễ thường
ATTACH;FMTTYPE=image/jpeg:https://sotayconggiao.com/wp-content/uploads/2025/02/thu-7-sau-cn-3-mc-a-1-3-2023.jpg
END:VEVENT
END:VCALENDAR