BEGIN:VCALENDAR
VERSION:2.0
PRODID:-//Sổ Tay Công Giáo - ECPv6.8.3//NONSGML v1.0//EN
CALSCALE:GREGORIAN
METHOD:PUBLISH
X-WR-CALNAME:Sổ Tay Công Giáo
X-ORIGINAL-URL:https://sotayconggiao.com
X-WR-CALDESC:Sự kiện cho Sổ Tay Công Giáo
REFRESH-INTERVAL;VALUE=DURATION:PT1H
X-Robots-Tag:noindex
X-PUBLISHED-TTL:PT1H
BEGIN:VTIMEZONE
TZID:Asia/Ho_Chi_Minh
BEGIN:STANDARD
TZOFFSETFROM:+0700
TZOFFSETTO:+0700
TZNAME:+07
DTSTART:20270101T000000
END:STANDARD
END:VTIMEZONE
BEGIN:VEVENT
DTSTART;VALUE=DATE:20270725
DTEND;VALUE=DATE:20270726
DTSTAMP:20260423T120410
CREATED:20250214T045846Z
LAST-MODIFIED:20250218T080050Z
UID:10000581-1816473600-1816559999@sotayconggiao.com
SUMMARY:THÁNH GIACÔBÊ\, TÔNG ĐỒ
DESCRIPTION:
URL:https://sotayconggiao.com/event/thanh-giacobe-tong-do/2027-07-25/
CATEGORIES:Lễ Kính
ATTACH;FMTTYPE=image/webp:https://sotayconggiao.com/wp-content/uploads/2025/02/Thanh-Gia-co-be-Tong-do.webp
END:VEVENT
BEGIN:VEVENT
DTSTART;VALUE=DATE:20270725
DTEND;VALUE=DATE:20270726
DTSTAMP:20260423T120410
CREATED:20250214T050316Z
LAST-MODIFIED:20250218T081029Z
UID:10000591-1816473600-1816559999@sotayconggiao.com
SUMMARY:Chúa Nhật thứ Mười Bảy Mùa Quanh Năm
DESCRIPTION:
URL:https://sotayconggiao.com/event/chua-nhat-thu-muoi-bay-mua-quanh-nam/2027-07-25/
CATEGORIES:Lễ Trọng
ATTACH;FMTTYPE=image/webp:https://sotayconggiao.com/wp-content/uploads/2025/02/Chua-Nhat-thu-Muoi-Bay-Mua-Quanh-Nam.webp
END:VEVENT
BEGIN:VEVENT
DTSTART;VALUE=DATE:20270726
DTEND;VALUE=DATE:20270727
DTSTAMP:20260423T120410
CREATED:20250214T050154Z
LAST-MODIFIED:20250218T080923Z
UID:10000586-1816560000-1816646399@sotayconggiao.com
SUMMARY:Thánh Joachim và thánh Anna\, song thân Đức Maria.
DESCRIPTION:
URL:https://sotayconggiao.com/event/thanh-joachim-va-thanh-anna-song-than-duc-maria/2027-07-26/
CATEGORIES:Lễ Nhớ
ATTACH;FMTTYPE=image/webp:https://sotayconggiao.com/wp-content/uploads/2025/02/THANH-GIOAN-KIM-VA-ANNA-26-7.webp
END:VEVENT
BEGIN:VEVENT
DTSTART;VALUE=DATE:20270729
DTEND;VALUE=DATE:20270730
DTSTAMP:20260423T120410
CREATED:20250214T050621Z
LAST-MODIFIED:20250218T081127Z
UID:10000602-1816819200-1816905599@sotayconggiao.com
SUMMARY:Thánh nữ Martha\, Maria và Ladarô
DESCRIPTION:
URL:https://sotayconggiao.com/event/thanh-nu-martha-maria-va-ladaro/2027-07-29/
CATEGORIES:Lễ Nhớ
ATTACH;FMTTYPE=image/jpeg:https://sotayconggiao.com/wp-content/uploads/2025/02/Thanh-nu-Martha-Maria-va-Ladaro.jpg
END:VEVENT
BEGIN:VEVENT
DTSTART;VALUE=DATE:20270730
DTEND;VALUE=DATE:20270731
DTSTAMP:20260423T120410
CREATED:20250214T050741Z
LAST-MODIFIED:20250218T081231Z
UID:10000607-1816905600-1816991999@sotayconggiao.com
SUMMARY:Thánh Phêrô Kim Ngôn\, giám mục\, tiến sĩ Hội Thánh
DESCRIPTION:
URL:https://sotayconggiao.com/event/thanh-phero-kim-ngon-giam-muc-tien-si-hoi-thanh/2027-07-30/
CATEGORIES:Lễ thường
ATTACH;FMTTYPE=image/jpeg:https://sotayconggiao.com/wp-content/uploads/2025/02/Thanh-Phero-Kim-Ngon-giam-muc-tien-si-Hoi-Thanh.jpg
END:VEVENT
BEGIN:VEVENT
DTSTART;VALUE=DATE:20270731
DTEND;VALUE=DATE:20270801
DTSTAMP:20260423T120410
CREATED:20250214T050849Z
LAST-MODIFIED:20250218T081322Z
UID:10000612-1816992000-1817078399@sotayconggiao.com
SUMMARY:Thánh Ignatiô Loyôla\, linh mục
DESCRIPTION:
URL:https://sotayconggiao.com/event/thanh-ignatio-loyola-linh-muc/2027-07-31/
CATEGORIES:Lễ Nhớ
ATTACH;FMTTYPE=image/webp:https://sotayconggiao.com/wp-content/uploads/2025/02/Thanh-I-nha-xi-o-Loi-o-la-–-Linh-muc.webp
END:VEVENT
BEGIN:VEVENT
DTSTART;VALUE=DATE:20270801
DTEND;VALUE=DATE:20270802
DTSTAMP:20260423T120410
CREATED:20250214T051040Z
LAST-MODIFIED:20250214T051040Z
UID:10000617-1817078400-1817164799@sotayconggiao.com
SUMMARY:Thánh Alphongsô Maria Ligôri\, giám mục\, tiến sĩ Hội Thánh
DESCRIPTION:
URL:https://sotayconggiao.com/event/thanh-alphongso-maria-ligori-giam-muc-tien-si-hoi-thanh/2027-08-01/
CATEGORIES:Lễ Nhớ
ATTACH;FMTTYPE=image/jpeg:https://sotayconggiao.com/wp-content/uploads/2025/02/Alphongso-Maria-Liguori.jpg
END:VEVENT
BEGIN:VEVENT
DTSTART;VALUE=DATE:20270801
DTEND;VALUE=DATE:20270802
DTSTAMP:20260423T120410
CREATED:20250214T051436Z
LAST-MODIFIED:20250214T051436Z
UID:10000627-1817078400-1817164799@sotayconggiao.com
SUMMARY:CHÚA NHẬT XVIII THƯỜNG NIÊN. Thánh vịnh tuần II
DESCRIPTION:
URL:https://sotayconggiao.com/event/chua-nhat-xviii-thuong-nien-thanh-vinh-tuan-ii/2027-08-01/
CATEGORIES:Lễ Trọng
ATTACH;FMTTYPE=image/webp:https://sotayconggiao.com/wp-content/uploads/2025/02/chua-nhat-18-tn-b-1-8-2024.webp
END:VEVENT
BEGIN:VEVENT
DTSTART;VALUE=DATE:20270802
DTEND;VALUE=DATE:20270803
DTSTAMP:20260423T120410
CREATED:20250214T051209Z
LAST-MODIFIED:20250214T051209Z
UID:10000622-1817164800-1817251199@sotayconggiao.com
SUMMARY:Thánh Êusêbiô Vercellêsi. Thánh Phêrô Julianô Eymard\, linh mục
DESCRIPTION:
URL:https://sotayconggiao.com/event/thanh-eusebio-vercellesi-thanh-phero-juliano-eymard-linh-muc/2027-08-02/
CATEGORIES:Lễ thường
ATTACH;FMTTYPE=image/jpeg:https://sotayconggiao.com/wp-content/uploads/2025/02/Thanh-EUSEBIO-VERCELLESI-Giam-Muc-315-371.jpg
END:VEVENT
BEGIN:VEVENT
DTSTART;VALUE=DATE:20290331
DTEND;VALUE=DATE:20290401
DTSTAMP:20260423T120410
CREATED:20250213T083216Z
LAST-MODIFIED:20250214T181705Z
UID:10001022-1869609600-1869695999@sotayconggiao.com
SUMMARY:Thứ Bảy trong tuần thứ Ba Mùa Chay
DESCRIPTION:
URL:https://sotayconggiao.com/event/thu-bay-trong-tuan-thu-ba-mua-chay/2029-03-31/
CATEGORIES:Lễ thường
ATTACH;FMTTYPE=image/jpeg:https://sotayconggiao.com/wp-content/uploads/2025/02/thu-7-sau-cn-3-mc-a-1-3-2023.jpg
END:VEVENT
END:VCALENDAR