BEGIN:VCALENDAR
VERSION:2.0
PRODID:-//Sổ Tay Công Giáo - ECPv6.8.3//NONSGML v1.0//EN
CALSCALE:GREGORIAN
METHOD:PUBLISH
X-WR-CALNAME:Sổ Tay Công Giáo
X-ORIGINAL-URL:https://sotayconggiao.com
X-WR-CALDESC:Sự kiện cho Sổ Tay Công Giáo
REFRESH-INTERVAL;VALUE=DURATION:PT1H
X-Robots-Tag:noindex
X-PUBLISHED-TTL:PT1H
BEGIN:VTIMEZONE
TZID:Asia/Ho_Chi_Minh
BEGIN:STANDARD
TZOFFSETFROM:+0700
TZOFFSETTO:+0700
TZNAME:+07
DTSTART:20270101T000000
END:STANDARD
END:VTIMEZONE
BEGIN:VEVENT
DTSTART;VALUE=DATE:20270509
DTEND;VALUE=DATE:20270510
DTSTAMP:20260425T205124
CREATED:20250213T090958Z
LAST-MODIFIED:20250214T184953Z
UID:10000293-1809820800-1809907199@sotayconggiao.com
SUMMARY:Thánh Gioan I\, giáo hoàng\, tử đạo. Thánh Giuse Ngô Duy Hiển\, linh mục\, tử đạo († 1840)
DESCRIPTION:
URL:https://sotayconggiao.com/event/thanh-gioan-i-giao-hoang-tu-dao-thanh-giuse-ngo-duy-hien-linh-muc-tu-dao-%e2%80%a0-1840/2027-05-09/
CATEGORIES:Lễ Nhớ
ATTACH;FMTTYPE=image/jpeg:https://sotayconggiao.com/wp-content/uploads/2025/02/Gioan1_Pope.jpg
END:VEVENT
BEGIN:VEVENT
DTSTART;VALUE=DATE:20270509
DTEND;VALUE=DATE:20270510
DTSTAMP:20260425T205124
CREATED:20250213T091357Z
LAST-MODIFIED:20250214T185432Z
UID:10000303-1809820800-1809907199@sotayconggiao.com
SUMMARY:CHÚA NHẬT IV PHỤC SINH. Thánh vịnh tuần IV. CHÚA NHẬT CHÚA CHIÊN LÀNH. Cầu cho ơn thiên triệu linh mục và tu sĩ
DESCRIPTION:
URL:https://sotayconggiao.com/event/chua-nhat-iv-phuc-sinh-thanh-vinh-tuan-iv-chua-nhat-chua-chien-lanh-cau-cho-on-thien-trieu-linh-muc-va-tu-si/2027-05-09/
CATEGORIES:Lễ Trọng
ATTACH;FMTTYPE=image/jpeg:https://sotayconggiao.com/wp-content/uploads/2025/02/Chua-nhat-IV-PS-14-4-2023.jpg
END:VEVENT
BEGIN:VEVENT
DTSTART;VALUE=DATE:20270510
DTEND;VALUE=DATE:20270511
DTSTAMP:20260425T205124
CREATED:20250213T091145Z
LAST-MODIFIED:20250214T185054Z
UID:10000298-1809907200-1809993599@sotayconggiao.com
SUMMARY:Thánh Gioan Avila\, linh mục\, tiến sĩ Hội Thánh
DESCRIPTION:
URL:https://sotayconggiao.com/event/thanh-gioan-avila-linh-muc-tien-si-hoi-thanh/2027-05-10/
ATTACH;FMTTYPE=image/jpeg:https://sotayconggiao.com/wp-content/uploads/2025/02/GioanAvila.jpg
END:VEVENT
BEGIN:VEVENT
DTSTART;VALUE=DATE:20270512
DTEND;VALUE=DATE:20270513
DTSTAMP:20260425T205124
CREATED:20250213T091514Z
LAST-MODIFIED:20250214T185323Z
UID:10000308-1810080000-1810166399@sotayconggiao.com
SUMMARY:Thánh Nêrêô và thánh Achilêô\, tử đạo. Thánh Pancratiô\, tử đạo
DESCRIPTION:
URL:https://sotayconggiao.com/event/thanh-nereo-va-thanh-achileo-tu-dao-thanh-pancratio-tu-dao/2027-05-12/
ATTACH;FMTTYPE=image/jpeg:https://sotayconggiao.com/wp-content/uploads/2025/02/Thanh-Nereo-va-thanh-Achileo-tu-dao.-Thanh-Pancratio-tu-dao.jpeg
END:VEVENT
BEGIN:VEVENT
DTSTART;VALUE=DATE:20270513
DTEND;VALUE=DATE:20270514
DTSTAMP:20260425T205124
CREATED:20250213T091632Z
LAST-MODIFIED:20250214T185517Z
UID:10000313-1810166400-1810252799@sotayconggiao.com
SUMMARY:Đức Mẹ Fatima
DESCRIPTION:
URL:https://sotayconggiao.com/event/duc-me-fatima/2027-05-13/
ATTACH;FMTTYPE=image/jpeg:https://sotayconggiao.com/wp-content/uploads/2025/02/Duc-Me-Fatima.jpg
END:VEVENT
BEGIN:VEVENT
DTSTART;VALUE=DATE:20270514
DTEND;VALUE=DATE:20270515
DTSTAMP:20260425T205124
CREATED:20250213T091747Z
LAST-MODIFIED:20250214T185604Z
UID:10000318-1810252800-1810339199@sotayconggiao.com
SUMMARY:THÁNH MATTHIA\, TÔNG ĐỒ
DESCRIPTION:
URL:https://sotayconggiao.com/event/thanh-matthia-tong-do/2027-05-14/
CATEGORIES:Lễ Kính,Lễ thường
ATTACH;FMTTYPE=image/jpeg:https://sotayconggiao.com/wp-content/uploads/2025/02/THANH-MATTHIA-TONG-DO.jpg
END:VEVENT
BEGIN:VEVENT
DTSTART;VALUE=DATE:20270515
DTEND;VALUE=DATE:20270516
DTSTAMP:20260425T205124
CREATED:20250213T091926Z
LAST-MODIFIED:20250214T185701Z
UID:10000323-1810339200-1810425599@sotayconggiao.com
SUMMARY:Thứ Bảy trong tuần thứ Tư Mùa Phục Sinh
DESCRIPTION:
URL:https://sotayconggiao.com/event/thu-bay-trong-tuan-thu-tu-mua-phuc-sinh/2027-05-15/
ATTACH;FMTTYPE=image/jpeg:https://sotayconggiao.com/wp-content/uploads/2025/02/thu-7-IV-PS-14-4-2023.jpg
END:VEVENT
BEGIN:VEVENT
DTSTART;VALUE=DATE:20270516
DTEND;VALUE=DATE:20270517
DTSTAMP:20260425T205124
CREATED:20250213T092039Z
LAST-MODIFIED:20250214T185803Z
UID:10000328-1810425600-1810511999@sotayconggiao.com
SUMMARY:CHÚA NHẬT V PHỤC SINH. Thánh Vịnh Tuần I
DESCRIPTION:
URL:https://sotayconggiao.com/event/chua-nhat-v-phuc-sinh-thanh-vinh-tuan-i/2027-05-16/
CATEGORIES:Lễ Trọng
ATTACH;FMTTYPE=image/jpeg:https://sotayconggiao.com/wp-content/uploads/2025/02/chua-nhat-V-6-5-2023.jpg
END:VEVENT
BEGIN:VEVENT
DTSTART;VALUE=DATE:20270520
DTEND;VALUE=DATE:20270521
DTSTAMP:20260425T205124
CREATED:20250213T092146Z
LAST-MODIFIED:20250214T185926Z
UID:10000333-1810771200-1810857599@sotayconggiao.com
SUMMARY:Thánh Bernarđinô Siêna\, linh mục
DESCRIPTION:
URL:https://sotayconggiao.com/event/thanh-bernardino-siena-linh-muc/2027-05-20/
ATTACH;FMTTYPE=image/jpeg:https://sotayconggiao.com/wp-content/uploads/2025/02/Thanh-Bernardino-Siena-linh-muc.jpg
END:VEVENT
BEGIN:VEVENT
DTSTART;VALUE=DATE:20270521
DTEND;VALUE=DATE:20270522
DTSTAMP:20260425T205124
CREATED:20250213T092309Z
LAST-MODIFIED:20250214T190017Z
UID:10000338-1810857600-1810943999@sotayconggiao.com
SUMMARY:Thánh Christôphôrô Magalla-nes\, linh mục và các bạn\, tử đạo
DESCRIPTION:
URL:https://sotayconggiao.com/event/thanh-christophoro-magalla-nes-linh-muc-va-cac-ban-tu-dao/2027-05-21/
ATTACH;FMTTYPE=image/jpeg:https://sotayconggiao.com/wp-content/uploads/2025/02/Christophoro-Magallanes_21May.jpg
END:VEVENT
BEGIN:VEVENT
DTSTART;VALUE=DATE:20270522
DTEND;VALUE=DATE:20270523
DTSTAMP:20260425T205124
CREATED:20250213T092424Z
LAST-MODIFIED:20250214T190236Z
UID:10000343-1810944000-1811030399@sotayconggiao.com
SUMMARY:Thánh Rita Cascia\, nữ tu. Thánh Micae Hồ Đình Hy\, quan thái bộc\, tử đạo († 1857); thánh Laurensô Phạm Viết Ngôn\, giáo dân\, tử đạo († 1862)
DESCRIPTION:
URL:https://sotayconggiao.com/event/thanh-rita-cascia-nu-tu-thanh-micae-ho-dinh-hy-quan-thai-boc-tu-dao-%e2%80%a0-1857-thanh-laurenso-pham-viet-ngon-giao-dan-tu-dao-%e2%80%a0-1862/2027-05-22/
CATEGORIES:Lễ thường
ATTACH;FMTTYPE=image/jpeg:https://sotayconggiao.com/wp-content/uploads/2025/02/RitaCascia.jpg
END:VEVENT
BEGIN:VEVENT
DTSTART;VALUE=DATE:20270522
DTEND;VALUE=DATE:20270523
DTSTAMP:20260425T205124
CREATED:20250213T092540Z
LAST-MODIFIED:20250214T190355Z
UID:10000348-1810944000-1811030399@sotayconggiao.com
SUMMARY:Thứ Bảy trong tuần thứ Năm Mùa Phục Sinh
DESCRIPTION:
URL:https://sotayconggiao.com/event/thu-bay-trong-tuan-thu-nam-mua-phuc-sinh/2027-05-22/
ATTACH;FMTTYPE=image/jpeg:https://sotayconggiao.com/wp-content/uploads/2025/02/thu-7-6-5-2023.jpg
END:VEVENT
BEGIN:VEVENT
DTSTART;VALUE=DATE:20270523
DTEND;VALUE=DATE:20270524
DTSTAMP:20260425T205124
CREATED:20250213T092709Z
LAST-MODIFIED:20250214T190510Z
UID:10000353-1811030400-1811116799@sotayconggiao.com
SUMMARY:CHÚA NHẬT VI PHỤC SINH. Thánh Vịnh Tuần II
DESCRIPTION:
URL:https://sotayconggiao.com/event/chua-nhat-vi-phuc-sinh-thanh-vinh-tuan-ii/2027-05-23/
CATEGORIES:Lễ Trọng
ATTACH;FMTTYPE=image/jpeg:https://sotayconggiao.com/wp-content/uploads/2025/02/chua-nhat-VI-PS-10-5-2023.jpg
END:VEVENT
BEGIN:VEVENT
DTSTART;VALUE=DATE:20270526
DTEND;VALUE=DATE:20270527
DTSTAMP:20260425T205124
CREATED:20250213T092827Z
LAST-MODIFIED:20250214T190605Z
UID:10000358-1811289600-1811375999@sotayconggiao.com
SUMMARY:Thánh Philipphê Nêri\, linh mục.
DESCRIPTION:
URL:https://sotayconggiao.com/event/thanh-philipphe-neri-linh-muc/2027-05-26/
CATEGORIES:Lễ Nhớ
ATTACH;FMTTYPE=image/webp:https://sotayconggiao.com/wp-content/uploads/2025/02/CN-VI-PS-T5-Philiphe-Neri-2.webp
END:VEVENT
BEGIN:VEVENT
DTSTART;VALUE=DATE:20270527
DTEND;VALUE=DATE:20270528
DTSTAMP:20260425T205124
CREATED:20250213T093013Z
LAST-MODIFIED:20250214T190703Z
UID:10000363-1811376000-1811462399@sotayconggiao.com
SUMMARY:Thánh Augustinô Cantuariô\, giám mục
DESCRIPTION:
URL:https://sotayconggiao.com/event/thanh-augustino-cantuario-giam-muc/2027-05-27/
CATEGORIES:Lễ thường
ATTACH;FMTTYPE=image/jpeg:https://sotayconggiao.com/wp-content/uploads/2025/02/AugustinoCantuario.jpg
END:VEVENT
BEGIN:VEVENT
DTSTART;VALUE=DATE:20270528
DTEND;VALUE=DATE:20270529
DTSTAMP:20260425T205124
CREATED:20250213T093201Z
LAST-MODIFIED:20250214T190817Z
UID:10000368-1811462400-1811548799@sotayconggiao.com
SUMMARY:Thánh Phaolô Trần Văn Hạnh\, giáo dân\, tử đạo († 1859). Chiều: LỄ VỌNG CHÚA GIÊSU LÊN TRỜI
DESCRIPTION:
URL:https://sotayconggiao.com/event/thanh-phaolo-tran-van-hanh-giao-dan-tu-dao-%e2%80%a0-1859-chieu-le-vong-chua-giesu-len-troi/2027-05-28/
CATEGORIES:Lễ Vọng
ATTACH;FMTTYPE=image/jpeg:https://sotayconggiao.com/wp-content/uploads/2025/02/Thanh-Phaolo-Tran-Van-Hanh-giao-dan-tu-dao-†-1859.jpg
END:VEVENT
BEGIN:VEVENT
DTSTART;VALUE=DATE:20270529
DTEND;VALUE=DATE:20270530
DTSTAMP:20260425T205124
CREATED:20250213T093325Z
LAST-MODIFIED:20250214T190916Z
UID:10000373-1811548800-1811635199@sotayconggiao.com
SUMMARY:CHÚA GIÊSU LÊN TRỜI
DESCRIPTION:
URL:https://sotayconggiao.com/event/chua-giesu-len-troi/2027-05-29/
CATEGORIES:Lễ Trọng
ATTACH;FMTTYPE=image/jpeg:https://sotayconggiao.com/wp-content/uploads/2025/02/Le-Chua-len-troi-12-5-2023.jpg
END:VEVENT
BEGIN:VEVENT
DTSTART;VALUE=DATE:20290331
DTEND;VALUE=DATE:20290401
DTSTAMP:20260425T205124
CREATED:20250213T083216Z
LAST-MODIFIED:20250214T181705Z
UID:10001022-1869609600-1869695999@sotayconggiao.com
SUMMARY:Thứ Bảy trong tuần thứ Ba Mùa Chay
DESCRIPTION:
URL:https://sotayconggiao.com/event/thu-bay-trong-tuan-thu-ba-mua-chay/2029-03-31/
CATEGORIES:Lễ thường
ATTACH;FMTTYPE=image/jpeg:https://sotayconggiao.com/wp-content/uploads/2025/02/thu-7-sau-cn-3-mc-a-1-3-2023.jpg
END:VEVENT
END:VCALENDAR