BEGIN:VCALENDAR
VERSION:2.0
PRODID:-//Sổ Tay Công Giáo - ECPv6.8.3//NONSGML v1.0//EN
CALSCALE:GREGORIAN
METHOD:PUBLISH
X-WR-CALNAME:Sổ Tay Công Giáo
X-ORIGINAL-URL:https://sotayconggiao.com
X-WR-CALDESC:Sự kiện cho Sổ Tay Công Giáo
REFRESH-INTERVAL;VALUE=DURATION:PT1H
X-Robots-Tag:noindex
X-PUBLISHED-TTL:PT1H
BEGIN:VTIMEZONE
TZID:Asia/Ho_Chi_Minh
BEGIN:STANDARD
TZOFFSETFROM:+0700
TZOFFSETTO:+0700
TZNAME:+07
DTSTART:20270101T000000
END:STANDARD
END:VTIMEZONE
BEGIN:VEVENT
DTSTART;VALUE=DATE:20270101
DTEND;VALUE=DATE:20270102
DTSTAMP:20260420T235401
CREATED:20241125T002445Z
LAST-MODIFIED:20241230T052104Z
UID:10000105-1798761600-1798847999@sotayconggiao.com
SUMMARY:Thánh Maria\, Mẹ Thiên Chúa
DESCRIPTION:Nhân loại lại bước vào một năm mới: năm dương lịch 2003. Trái đất\, thời tiết bốn mùa cứ như xoay chuyển vần xoay\, cứ như thay đổi không ngừng. Năm 2003 được đánh dấu bằng việc thánh hóa các gia đình. Nên\, dõi theo gương sáng ngời của gia đình Nagiarét là việc quan trọng và khẩn thiết của mọi gia đình công giáo. Hội Thánh trong ngày đầu năm mới dương lịch đã tôn dương tước hiệu Ðức Maria là Mẹ Thiên Chúa. \nMỘT TƯỚC HIỆU TRỔI VƯỢT MỌI TƯỚC HIỆU\nTước hiệu Ðức Maria Mẹ Thiên Chúa là một tước hiệu đã có từ lâu đời trong Giáo Hội. Ðây là một xứng hợp hơn mọi tước hiệu khi nói về Ðức Trinh Nữ Maria. Vào thế kỷ V\, giáo chủ Nestôriô đã nổi lên chống đối tước hiệu Mẹ Thiên Chúa của Ðức Trinh Nữ Maria. Theo Nestôriô\, chỉ nên gọi Maria là Mẹ của Ðức Giêsu Kitô\, chứ không được gọi là Mẹ Thiên Chúa. Một cuộc xung đột lớn lao đã xẩy ra trong Giáo Hội xoay quanh việc Ngôi Hai nhập thể. Thế nên\, vào năm 431\, Hội Thánh đã triệu tập công đồng Êphêsô dưới sự chủ tọa của thánh Cyrillô\, các nghị phụ trong công đồng này đã tuyên bố cất chức giáo chủ Nestôriô và đánh đổ lạc thuyết của ông ta. Công đồng Êphêsô đã định tín Mẹ Maria là Mẹ Thiên Chúa vì thực sự Mẹ đã sinh ra Con-Thiên-Chúa-làm-người. Bắt đầu từ công đồng Êphêsô tước hiệu Maria Mẹ Thiên Chúa đã trở thành tước hiệu chính thức của Ðức Trinh Nữ Maria. Ðây là tước hiệu trổi vượt trên mọi tước hiệu mà Giáo Hội đã ca tụng và tôn vinh Ðức Trinh Nữ Maria. Thánh công đồng Vaticanô II trong Hiến chế Tín lý về Hội Thánh dã viết:” từ những thời xa xưa\, Ðức Trinh Nữ đã được tôn kính dưới tước hiệu là Mẹ Thiên Chúa\, và các tín hữu đã khẩn cầu cùng ẩn náu dưới sự che chở của Người trong mọi cơn gian nan khốn khó”. Ðức Giáo hoànng Piô XI đã viết khi lập thánh lễ kính trọng thể Mẹ Maria là Mẹ Thiên Chúa ngày 11/10 nhân dịp kỷ niệm 1500 năm công đồng Êphêsô vào năm 1931: “Tín điều Mẹ Thiên Chúa là một mối nước mầu nhiệm vô tận\, đã tuôn ra mọi đặc ân cho Ðức Mẹ và nâng Người lên một địa vị cao sang tuyệt vời bên Thiên Chúa” (Lux Veritatis 1931). \nNHƯ MẸ MARIA.\nTin mừng Lc 2\, 16- 21 như muốn thúc giục nhân loại hãy hiện diện bên Chúa Giêsu Hài Ðồng như các mục đồng xưa. Ðây là dấu chỉ đích thực về sự có mặt của Chúa cứu thế đang ở giữa nhân loại theo sự loan báo của các thiên thần. Các mục đồng nhanh chân\, bỡ ngỡ\, hốt hoảng nhưng tiếp tục ra đi tìm Chúa Giêsu theo lời loan báo của các thiên thần và họ đã tìm ra Ðấng cứu thế\, đây là một dấu chỉ đối với họ. Còn Maria khi thấy các mục đồng có mặt cung chiêm Chúa Giêsu\, Mẹ Maria cũng coi đây là một dấu chỉ quan trọng trong cuộc đời Mẹ. Việc đản sinh Con Thiên Chúa làm người đối với Mẹ vẫn là một mầu nhiệm tàng ẩn\, dù rằng hơn ai hết Mẹ là người hiểu thấu biến cố cứu độ\, nhưng Tin Mừng Luca chỉ nói vỏn vẹn:” còn Maria thì ghi nhớ tất cả những sự việc đó và suy niệm trong lòng” (Lc 2\, 19). Mẹ Maria trong đêm giáng sinh với cảnh huy hoàng lộng lẫy\, với tiếng hát của muôn cơ binh thiên thần\, vẫn im lặng. Sự im lặng của một con người nói tiếng xin vâng tuân theo thánh ý Thiên Chúa. Sự im lặng của một con người được tràn đầy hồng phúc. Mẹ luôn sống tâm tình của một nữ tỳ khiêm tốn và như thế mọi vinh quang trần thế\, Mẹ luôn dành cho những người khác. Mẹ hiểu rõ khi các mục đồng tới hang đá cung chiêm Chúa Hài Ðồng Giêsu con Mẹ\, Mẹ hiểu thấu căn tính của con Mẹ\, Mẹ được chúc phúc\, nhưng Mẹ vẫn chưa đọc ra lời chúc phúc của Thiên chúa dầu vậy Mẹ vẫn luôn tin tưởng tuyệt đối vào việc trung tín của Thiên Chúa. Mẹ đã sống đơn sơ\, khiêm nhường\, tín thác vào Chúa Giêsu vì thế Mẹ xứng đáng lãnh nhận tước hiệu Maria Mẹ Thiên Chúa. \nNhư Maria\, nhân loại đã được chúc phúc bởi vì nhân loại đã biết kính sợ Chúa:” Ðó chính là phúc lộc Chúa dành cho kẻ kính sợ Người. Xin Chúa từ Xion xuống cho bạn muôn vàn ơn phúc. Ước chi trong suốt cả cuộc đời bạn được thấy Giêrusalem phồn thịnh\, được sống lâu bên đàn con” (Tv 128\,4-6) hoặc” Khách qua đường không ai chào hỏi chúng: Chúa ban phúc lành cho anh em. Chúng tôi chúc lành cho anh em nhân danh Chúa” (Tv 129\, 8). Quả thực như một hồng ân cao quí vì nhân loại và mỗi người chúng ta đều được Chúa chúc lành. Mọi người trong năm mới này sẽ được hạnh phúc sống giây phút hồng ân là Chúa đang hiện diện trong cuộc sống của mỗi người để làm cho cuộc sống ấy nên viên mãn\, nên hoàn thiện hơn. \nHôm nay\, Giáo Hội dành ngày đầu năm dương lịch để cầu nguyện cho thế giới hòa bình trùng vào ngày kính trọng thể Ðức Maria Mẹ Thiên Chúa như lời Ðức thánh cha Phaolô VI đã viết trong tông huấn Marialis Cultus\, số 5b khi Người dời thánh lễ kính trọng thể Mẹ Maria là Mẹ Thiên Chúa vào ngày 01/01 mỗi năm như sau: “Vì sự trùng hợp tốt đẹp giữa ngày 01 tháng giêng với ngày thứ tám giáp lễ Giáng sinh mà chúng tôi đã đặt ngày đó là ngày Thế Giới Hòa Bình\, mà thế giới mỗi ngày càng hưởng ứng thêm\, và thành quả của hòa bình đã phát sinh trong lòng nhiều người”. \nLạy Vua Hòa Bình mới sinh\, nhờ sự can thiệp của Nữ Vương Hòa Bình\, xin ban cho nhân loại và mỗi người chúng con sự Hòa Bình đích thực và ơn an bình trong mỗi tâm hồn. \nXin Hài Ðồng Giêsu thánh hóa các gia đình chúng con để mọi gia đình luôn sống sự thánh thiện và công chính của gia đình Nagiarét.
URL:https://sotayconggiao.com/event/thanh-maria-me-thien-chua/2027-01-01/
CATEGORIES:Lễ Trọng,Mùa Giáng Sinh
ATTACH;FMTTYPE=image/jpeg:https://sotayconggiao.com/wp-content/uploads/2024/11/me-thien-chua.jpg
END:VEVENT
BEGIN:VEVENT
DTSTART;VALUE=DATE:20270102
DTEND;VALUE=DATE:20270103
DTSTAMP:20260420T235401
CREATED:20241125T003029Z
LAST-MODIFIED:20241230T052117Z
UID:10000109-1798848000-1798934399@sotayconggiao.com
SUMMARY:Thánh Basiliô Cả và thánh Grêgôriô Nazianzênô\, Gm Ts Ht
DESCRIPTION:Ngay trong ca nhập lễ các thánh Giám mục đã có viết: “Ta sẽ kiểm điểm đoàn chiên của Ta và đặt một mục tử chăn dắt chúng. Còn Ta\, Ta sẽ là Thiên Chúa của chúng” (Lời Chúa phán). Thánh Basiliô cả và Grêgôriô Nazian là các vị mục tử tốt lành Chúa đã đặt lên để chăn dắt đoàn chiên của Ngài. \nTÌNH NGHĨA SÁNG NGỜI\nHai thánh Basiliô cả và Grêgôriô Nazian đều được sinh ra tại Cappadoce\, thuộc hai gia đình quí phái\, danh tiếng\, có địa vị vững chắc trong xã hội lúc đó. Hai vị thánh đều học cùng trường tại Athènes Hy Lạp\, thành đạt trong việc học\, hai Ngài đều cùng về quê hương và sống với nhau trong một mái nhà tu viện. Dù rằng tính khí mỗi người khác nhau\, nhưng hai vị thánh đã sống nghĩa thiết chan hòa\, sống theo gương mục tử nhân hậu hiền lành noi theo Chúa Giêsu. Thánh Basiliô có tài lãnh đạo\, có óc tổ chức\, chỉ huy\, điều khiển. Thánh Grêgôriô Nazian lại thích chiêm niêm\, sống âm thầm và là một tu sĩ sáng ngời các nhân đức. Cả hai vị thánh đều được chọn làm Giám mục của hai Giáo phận. Thánh Basiliô được đặt làm Giám mục năm 370 tại Césarée de Cappadoce. Thánh Giám mục Basiliô là một mục tử can trường\, đầy dũng khí\, hiên ngang. Nhờ lòng dũng cảm: lời giảng dậy\, chữ viết và nhờ tài khéo léo\, can thiệp trực tiếp của Ngài với Chính quyền\, Ngài đã đem lại cho Hội Thánh một chỗ đứng vững chắc\, tách quyền Giáo Hội ra khỏi thế quyền. Ngài giúp cho những người nghèo lấy lại phẩm giá của mình và bảo vệ đức tin của đoàn chiên cách sâu xa\, vững chắc. Thánh Grêgôriô Nazian được tấn phong Giám mục Sasime năm 371\, và vào năm 380\, thánh nhân được cử làm Giám mục Constantinople giữa sóng gió do bè rối Ariô gây nên. Ngài có tài hùng biện\, mọi người đều theo Ngài. Thánh nhân được đặt cho một cái tên hết sức thân thương: “Cha của những kẻ khốn cùng”. \nThánh Basiliô qua đời ngày 01/1/379 và thánh Grêgôriô Nazian tạ thế ngày 25/1/390. \nGIÁO HỘI TUNG HÔ CÁC NGÀI\nCả hai vị thánh đã sống hiền lành\, khiêm nhượng theo gương Chúa Giêsu Cứu Thế. Cuộc sống của các Ngài đã họa lại bộ mặt đầy yêu thương của Chúa. Thánh Grêgôriô đã để lại câu nói bất hủ: “Nếu vì tôi mà bão táp này (bè rối Ariô) nổi dậy\, hãy ném tôi xuống biển\, để anh em khỏi bị khổ sở”. \nGiáo Hội Chính Thống đã đặt ba vị thánh Basiliô cả\, Grêgôriô Nazian và Gioan Kim Khẩu lên hàng đầu giữa các bậc tiến sĩ trong Giáo Hội Chúa Kitô. Vì những công nghiệp\, tài đức và nhân đức của các Ngài\, Hội Thánh còn gọi các Ngài bằng tên rất đẹp\, ấn tượng và thân thương: “đuốc thiêng của Hội Thánh”. \nLỜI NGUYỆN\n“Lạy Chúa\, Chúa đã làm cho Giáo Hội nên rạng rỡ nhờ gương sáng và lời giảng dậy của hai thánh Basiliô cả và Grêgôriô Nazian. Xin cho chúng con biết khiêm nhường tìm hiểu chân lý của Chúa và hết lòng yêu mến đem ra thực hành” (Lời nguyện ca nhập lễ\, lễ thánh Basiliô cả và Grêgoriô Nazian). \nLinh mục Giuse Nguyễn Hưng Lợi DCCT
URL:https://sotayconggiao.com/event/thanh-basilio-ca-va-thanh-gregorio-nazianzeno-gm-ts-ht/2027-01-02/
CATEGORIES:Lễ Nhớ,Mùa Giáng Sinh
ATTACH;FMTTYPE=image/jpeg:https://sotayconggiao.com/wp-content/uploads/2024/11/unnamed.jpg
END:VEVENT
BEGIN:VEVENT
DTSTART;VALUE=DATE:20270103
DTEND;VALUE=DATE:20270104
DTSTAMP:20260420T235401
CREATED:20241125T003300Z
LAST-MODIFIED:20250214T193634Z
UID:10001132-1798934400-1799020799@sotayconggiao.com
SUMMARY:Chúa Hiển Linh
DESCRIPTION:
URL:https://sotayconggiao.com/event/chua-hien-linh/2027-01-03/
CATEGORIES:Lễ Trọng,Mùa Giáng Sinh
ATTACH;FMTTYPE=image/webp:https://sotayconggiao.com/wp-content/uploads/2024/11/Chua-Nhat-Le-Hien-Linh.webp
END:VEVENT
BEGIN:VEVENT
DTSTART;VALUE=DATE:20270110
DTEND;VALUE=DATE:20270111
DTSTAMP:20260420T235401
CREATED:20241125T003514Z
LAST-MODIFIED:20250214T192625Z
UID:10001097-1799539200-1799625599@sotayconggiao.com
SUMMARY:Chúa Giêsu Chịu Phép Rửa
DESCRIPTION:
URL:https://sotayconggiao.com/event/chua-giesu-chiu-phep-rua/2027-01-10/
CATEGORIES:Lễ Kính,Mùa Giáng Sinh
ATTACH;FMTTYPE=image/jpeg:https://sotayconggiao.com/wp-content/uploads/2024/11/chua-chiu-phep-rua.jpg
END:VEVENT
BEGIN:VEVENT
DTSTART;VALUE=DATE:20270117
DTEND;VALUE=DATE:20270118
DTSTAMP:20260420T235401
CREATED:20241125T003826Z
LAST-MODIFIED:20241230T052129Z
UID:10000113-1800144000-1800230399@sotayconggiao.com
SUMMARY:Thánh Antôn\, viện phụ
DESCRIPTION:
URL:https://sotayconggiao.com/event/thanh-anton-vien-phu/2027-01-17/
CATEGORIES:Lễ Nhớ,Thường Niên
ATTACH;FMTTYPE=image/jpeg:https://sotayconggiao.com/wp-content/uploads/2024/11/Thanh-Anton-vien-phu.jpg
END:VEVENT
BEGIN:VEVENT
DTSTART;VALUE=DATE:20270117
DTEND;VALUE=DATE:20270118
DTSTAMP:20260420T235401
CREATED:20241125T004034Z
LAST-MODIFIED:20250214T192640Z
UID:10001102-1800144000-1800230399@sotayconggiao.com
SUMMARY:Chúa Nhật II Thường Niên
DESCRIPTION:
URL:https://sotayconggiao.com/event/chua-nhat-ii-thuong-nien/2027-01-17/
CATEGORIES:Lễ Trọng,Thường Niên
ATTACH;FMTTYPE=image/webp:https://sotayconggiao.com/wp-content/uploads/2024/11/Chua-nhat-II-nam-C.webp
END:VEVENT
BEGIN:VEVENT
DTSTART;VALUE=DATE:20270121
DTEND;VALUE=DATE:20270122
DTSTAMP:20260420T235401
CREATED:20241125T004208Z
LAST-MODIFIED:20241230T052145Z
UID:10000117-1800489600-1800575999@sotayconggiao.com
SUMMARY:Thánh Anê\, trinh nữ\, tử đạo
DESCRIPTION:
URL:https://sotayconggiao.com/event/thanh-ane-trinh-nu-tu-dao/2027-01-21/
CATEGORIES:Lễ Nhớ
ATTACH;FMTTYPE=image/png:https://sotayconggiao.com/wp-content/uploads/2024/11/Thanh-Ane-trinh-nu-tu-dao.png
END:VEVENT
BEGIN:VEVENT
DTSTART;VALUE=DATE:20270124
DTEND;VALUE=DATE:20270125
DTSTAMP:20260420T235401
CREATED:20241125T004409Z
LAST-MODIFIED:20241230T052157Z
UID:10000121-1800748800-1800835199@sotayconggiao.com
SUMMARY:Thánh Phanxicô Salêsiô\, Gm Ts Ht
DESCRIPTION:
URL:https://sotayconggiao.com/event/thanh-phanxico-salesio-gm-ts-ht/2027-01-24/
CATEGORIES:Lễ Nhớ,Thường Niên
ATTACH;FMTTYPE=image/jpeg:https://sotayconggiao.com/wp-content/uploads/2024/11/unnamed-1.jpg
END:VEVENT
BEGIN:VEVENT
DTSTART;VALUE=DATE:20270124
DTEND;VALUE=DATE:20270125
DTSTAMP:20260420T235401
CREATED:20241125T004740Z
LAST-MODIFIED:20250214T192917Z
UID:10001107-1800748800-1800835199@sotayconggiao.com
SUMMARY:Chúa Nhật III Thường Niên
DESCRIPTION:
URL:https://sotayconggiao.com/event/chua-nhat-iii-thuong-nien/2027-01-24/
CATEGORIES:Lễ Trọng,Thường Niên
ATTACH;FMTTYPE=image/webp:https://sotayconggiao.com/wp-content/uploads/2024/11/Chua-nhat-3-nam-C-16-01-2024.webp
END:VEVENT
BEGIN:VEVENT
DTSTART;VALUE=DATE:20270125
DTEND;VALUE=DATE:20270126
DTSTAMP:20260420T235401
CREATED:20241125T004645Z
LAST-MODIFIED:20250214T174625Z
UID:10000097-1800835200-1800921599@sotayconggiao.com
SUMMARY:Thánh Phaolô\, tông đồ\, trở lại
DESCRIPTION:
URL:https://sotayconggiao.com/event/thanh-phaolo-tong-do-tro-lai/2027-01-25/
CATEGORIES:Lễ Kính,Thường Niên
ATTACH;FMTTYPE=image/jpeg:https://sotayconggiao.com/wp-content/uploads/2024/11/Thanh-Phaolo-tong-do-tro-lai.jpg
END:VEVENT
BEGIN:VEVENT
DTSTART;VALUE=DATE:20270128
DTEND;VALUE=DATE:20270129
DTSTAMP:20260420T235401
CREATED:20241125T005024Z
LAST-MODIFIED:20241230T051915Z
UID:10000101-1801094400-1801180799@sotayconggiao.com
SUMMARY:Thánh Tôma Aquinô\, Lm Ts Ht
DESCRIPTION:
URL:https://sotayconggiao.com/event/thanh-toma-aquino-lm-ts-ht/2027-01-28/
CATEGORIES:Lễ Nhớ,Thường Niên
ATTACH;FMTTYPE=image/webp:https://sotayconggiao.com/wp-content/uploads/2024/11/28.1-Le-Thanh-Toma-Aquino.webp
END:VEVENT
BEGIN:VEVENT
DTSTART;VALUE=DATE:20270129
DTEND;VALUE=DATE:20270130
DTSTAMP:20260420T235401
CREATED:20241125T005359Z
LAST-MODIFIED:20250214T192031Z
UID:10001072-1801180800-1801267199@sotayconggiao.com
SUMMARY:Mồng 1 Tết - Lễ Giao Thừa\, Lễ Tân Niên Ất Tỵ 2025
DESCRIPTION:
URL:https://sotayconggiao.com/event/mong-1-tet-le-giao-thua-le-tan-nien-at-ty-2025/2027-01-29/
CATEGORIES:Thường Niên
ATTACH;FMTTYPE=image/jpeg:https://sotayconggiao.com/wp-content/uploads/2024/11/mung-1-tet.jpg
END:VEVENT
BEGIN:VEVENT
DTSTART;VALUE=DATE:20270130
DTEND;VALUE=DATE:20270131
DTSTAMP:20260420T235401
CREATED:20241125T005742Z
LAST-MODIFIED:20250214T192051Z
UID:10001077-1801267200-1801353599@sotayconggiao.com
SUMMARY:Mồng 2 Tết - Kính Nhớ Tổ Tiên và Ông Bà Cha Mẹ
DESCRIPTION:
URL:https://sotayconggiao.com/event/mong-2-tet-kinh-nho-to-tien-va-ong-ba-cha-me/2027-01-30/
CATEGORIES:Thường Niên
ATTACH;FMTTYPE=image/jpeg:https://sotayconggiao.com/wp-content/uploads/2024/11/Kinh-Nho-To-Tien-va-Ong-Ba-Cha-Me.jpg
END:VEVENT
BEGIN:VEVENT
DTSTART;VALUE=DATE:20270131
DTEND;VALUE=DATE:20270201
DTSTAMP:20260420T235401
CREATED:20241125T010102Z
LAST-MODIFIED:20250214T192143Z
UID:10001082-1801353600-1801439999@sotayconggiao.com
SUMMARY:Mồng 3 Tết - Thánh Hóa Công Ăn Việc Làm. Thánh Gioan Bosco\, Lm
DESCRIPTION:
URL:https://sotayconggiao.com/event/mong-3-tet-thanh-hoa-cong-an-viec-lam-thanh-gioan-bosco-lm/2027-01-31/
CATEGORIES:Lễ Nhớ
ATTACH;FMTTYPE=image/jpeg:https://sotayconggiao.com/wp-content/uploads/2024/11/MUNG-BA-TET-Mt-2514-30.jpg
END:VEVENT
BEGIN:VEVENT
DTSTART;VALUE=DATE:20270203
DTEND;VALUE=DATE:20270204
DTSTAMP:20260420T235401
CREATED:20241214T001451Z
LAST-MODIFIED:20250214T192335Z
UID:10001092-1801612800-1801699199@sotayconggiao.com
SUMMARY:Thánh vịnh tuần IV. Thánh Blasiô\, giám mục\, tử đạo. Thánh Ansgariô\, giám mục
DESCRIPTION:
URL:https://sotayconggiao.com/event/thanh-vinh-tuan-iv-thanh-blasio-giam-muc-tu-dao-thanh-ansgario-giam-muc/2027-02-03/
CATEGORIES:Lễ thường
ATTACH;FMTTYPE=image/jpeg:https://sotayconggiao.com/wp-content/uploads/2024/12/hanh-Blasio-giam-muc-tu-dao.-Thanh-Ansgario-giam-muc.jpg
END:VEVENT
BEGIN:VEVENT
DTSTART;VALUE=DATE:20270205
DTEND;VALUE=DATE:20270206
DTSTAMP:20260420T235401
CREATED:20241214T001807Z
LAST-MODIFIED:20260204T085940Z
UID:10000077-1801785600-1801871999@sotayconggiao.com
SUMMARY:Thánh Agatha\, trinh nữ\, tử đạo
DESCRIPTION:
URL:https://sotayconggiao.com/event/thanh-agatha-trinh-nu-tu-dao/2027-02-05/
CATEGORIES:Lễ Nhớ
ATTACH;FMTTYPE=image/jpeg:https://sotayconggiao.com/wp-content/uploads/2024/12/5-2-Thanh-A-ga-ta.jpg
END:VEVENT
BEGIN:VEVENT
DTSTART;VALUE=DATE:20270206
DTEND;VALUE=DATE:20270207
DTSTAMP:20260420T235401
CREATED:20241214T001635Z
LAST-MODIFIED:20260204T085336Z
UID:10001067-1801872000-1801958399@sotayconggiao.com
SUMMARY:Thứ 7 trong tuần III - Mùa Quanh Năm
DESCRIPTION:
URL:https://sotayconggiao.com/event/thu-bay-trong-tuan-thu-ba-mua-quanh-nam/2027-02-06/
CATEGORIES:Lễ thường
ATTACH;FMTTYPE=image/jpeg:https://sotayconggiao.com/wp-content/uploads/2024/12/Thu-Bay-tuan-III-TN-A.jpg
END:VEVENT
BEGIN:VEVENT
DTSTART;VALUE=DATE:20270206
DTEND;VALUE=DATE:20270207
DTSTAMP:20260420T235401
CREATED:20241214T001908Z
LAST-MODIFIED:20260204T085929Z
UID:10000081-1801872000-1801958399@sotayconggiao.com
SUMMARY:Thánh Phaolô Miki và các bạn\, tử đạo
DESCRIPTION:
URL:https://sotayconggiao.com/event/thanh-phaolo-miki-va-cac-ban-tu-dao/2027-02-06/
CATEGORIES:Lễ Nhớ
ATTACH;FMTTYPE=image/jpeg:https://sotayconggiao.com/wp-content/uploads/2024/12/phaolo-miki-06-02.jpg
END:VEVENT
BEGIN:VEVENT
DTSTART;VALUE=DATE:20270207
DTEND;VALUE=DATE:20270208
DTSTAMP:20260420T235401
CREATED:20241125T010426Z
LAST-MODIFIED:20250214T192306Z
UID:10001087-1801958400-1802044799@sotayconggiao.com
SUMMARY:Chúa Nhật IV Thường Niên. Dâng Chúa Giêsu Trong Đền Thánh (Lễ Nến)
DESCRIPTION:
URL:https://sotayconggiao.com/event/chua-nhat-iv-thuong-nien-dang-chua-giesu-trong-den-thanh-le-nen/2027-02-07/
CATEGORIES:Lễ Kính,Thường Niên
ATTACH;FMTTYPE=image/jpeg:https://sotayconggiao.com/wp-content/uploads/2024/11/dang-Chua-Giesu-trong-den-thanh-800x445-1.jpg
END:VEVENT
BEGIN:VEVENT
DTSTART;VALUE=DATE:20270209
DTEND;VALUE=DATE:20270210
DTSTAMP:20260420T235401
CREATED:20241214T002007Z
LAST-MODIFIED:20241230T051628Z
UID:10000085-1802131200-1802217599@sotayconggiao.com
SUMMARY:Thánh Giêrônimô Êmilianô; Thánh Jôsêphina Bakhita\, trinh nữ
DESCRIPTION:
URL:https://sotayconggiao.com/event/thanh-gieronimo-emiliano-thanh-josephina-bakhita-trinh-nu/2027-02-09/
CATEGORIES:Lễ thường
ATTACH;FMTTYPE=image/jpeg:https://sotayconggiao.com/wp-content/uploads/2024/12/Saint-Gieronino-Emiliano-And-Saint-Giosephia-Bakhita.jpg
END:VEVENT
BEGIN:VEVENT
DTSTART;VALUE=DATE:20270211
DTEND;VALUE=DATE:20270212
DTSTAMP:20260420T235401
CREATED:20241214T002421Z
LAST-MODIFIED:20260204T085617Z
UID:10000135-1802304000-1802390399@sotayconggiao.com
SUMMARY:Ngày 11/2: Đức Mẹ Lộ Đức (Tr). Ngày Quốc Tế Bệnh Nhân. Thánh Tôma Ngô Túc Khuông\, linh mục\, tử đạo
DESCRIPTION:Ngày 11 tháng 2\nLỄ ĐỨC MẸ LỘ ĐỨC \n1. ĐÔI DÒNG LỊCH SỬ \nBuổi sáng ngày 11 tháng 02 năm 1858 tại Lộ Đức\, một thị trấn nhỏ nằm ở miền Nam Nước Pháp\, trời lạnh như cắt\, cô Bernadette Soubirous cùng với hai người em khác tự nguyện ra phía rừng cạnh bờ sông Gave để nhặt củi. Bernadette vừa lên 15 tuổi. Nhưng cô chưa biết đọc và biết viết. Cô vừa mới cắp sách đến trường của các sơ được một thời gian ngắn để học tiếng Pháp\, bởi vì trong miền cô đang ở\, mọi người đều nói một thứ tiếng thổ ngữ khác với tiếng Pháp. Hôm đó là ngày thứ năm\, cô được nghỉ học. Mặc dù bệnh suyễn đang hoành hành\, nhưng nghĩ đến cảnh nghèo túng của gia đình\, nên Bernadette đã xin phép mẹ được đi nhặt củi. \nBình thường theo dọc bờ sông Gave\, có rất nhiều cành cây khô. Nhưng suốt buổi sáng thứ năm đó\, dường như chị em của Bernadette không nhặt được bao nhiêu. Bernadette mới lần mò tiến về một hang động gần đó mà dân làng có thói quen gọi là Massabielle. Cô đang loay hoay với công việc nhặt củi\, thì từ trong hang một thiếu nữ cực kỳ diễm lệ xuất hiện. Theo lời mô tả của Bernadette\, thì người thiếu nữ chỉ trạc độ 16\, 17 tuổi. Bernadette tưởng mình như đang mơ. Cô bước thêm bước nữa. Người thiếu nữ mỉm cười.  \nTrong cơn xúc động bồi hồi\, như một cái máy\, Bernadette đã lôi tràng hạt từ trong túi áo ra và cô bắt đầu đọc kinh kính mừng bằng ngôn ngữ quen thuộc của cô. Trong ánh mắt chan hoà yêu thương\, người thiếu nữ chỉ mỉm cười. Bernadette vừa lần xong chuỗi mân côi\, người thiếu nữ đưa tay làm dấu cho cô tiến lại gần hơn. Nụ cười vẫn chưa tắt trên môi người thiếu nữ. Bernadette say sưa ngắm nhìn và tiếp tục đọc kinh cho đến khi ánh sáng bao trùm người thiếu nữ nhạt dần và tắt hẳn..  \nBa ngày sau đó\, sau khi đã có tiếng xì xầm về tiếng lạ đó\, bà mẹ của Bernadette nghiêm cấm không cho con gái mình trở lại hang Massabielle nữa. Nhưng do một sự thúc đẩy không thể cưỡng bức được\, Bernadette đã trở lại chỗ cũ cùng với mấy chị em cô. Lần này khi người thiếu nữ áo trắng xuất hiện\, cô đã mạnh dạn hô lớn: “nếu người đến từ Thiên Chúa\, xin người hãy ở lại”. Người thiếu nữ mỉm cười gật đầu. Đây là lần thứ hai người thiếu nữ áo trắng hiện ra với cô. Lần thứ ba cũng xảy ra như thế vào 18.02 và liên tiếp trong vòng 15 ngày\, Bernadette diễm phúc được Đức Maria hiện ra và tỏ lộ cho cô một danh tánh vô cùng kỳ lạ của Bà“Ta là Đấng Vô Nhiễm Nguyên tội”.  \nTừ nơi cô cầu nguyện mỗi khi Đức Mẹ hiện ra\, một dòng suối nhỏ đã vọt lên có sức chữa trị mọi tật bệnh.  \nĐó là nguồn gốc hang Đức Mẹ lộ đức. ngày nay\, từng giờ\, từng phút khách hành hương từ khắp nơi trên thế giới tuôn đến để cầu nguyện và xin ơn. Đến đó\, dù tin hay không tin\, mọi người đều cảm thấy có một sức mạnh lạ lùng lôi kéo để đốt lên một ngọn nén và quỳ gối cầu nguyện.  \nHiện nay\, khắp nơi trên thế giới đều có những hang lộ đức được thiết kế một cách tương tự để nhắc nhở biến cố này cũng như kêu gọi lòng tôn sùng mẫu tâm.  \nII. SỨ ĐIỆP NGÀY THẾ GIỚI BỆNH NHÂN. \nNhân việc cử hành Ngày Thế giới Bệnh nhân lần thứ XXIX vào ngày 11/02/2021\, lễ kính nhớ Đức Mẹ Lộ Đức\,Đức Thánh Cha Phanxicô có gửi một sứ điệp rất dài và cũng rất hay nhưng ở đây trong giới hạn của một bài suy niệm\, tôi chỉ xin trích một ít đoạn quan trọng. \n1. Trước Ngài cho biết sở dĩ có sứ điệp hôm nay là để nói lên sự quan tâm đặc biệt của Giáo Hội đến những bệnh nhân và những người trợ giúp cũng như chăm sóc họ ở những cơ sở chăm sóc sức khỏe cũng như trong các gia đình và cộng đoàn nhất là những người đang đau khổ và tiếp tục đau khổ\, bởi ảnh hưởng của đại dịch toàn cầu virus corona\, đặc biệt là người nghèo và người bị gạt ra bên lề xã hội. \n2. Tiếp đến Đức Thánh Cha lên án lối sống đạo giả hình. Người nói: “Khi đức tin của chúng ta chỉ là những lời nói suông trống rỗng\, không quan tâm đến cuộc sống và nhu cầu của người khác\, thì nó sẽ không có sự nhất quán giữa kinh Tin Kính mà chúng ta tuyên xưng và đời sống của chúng ta.  \nTrước nhu cầu của các anh chị em\, Chúa yêu cầu chúng ta dừng lại và lắng nghe\, kiến tạo mối tương quan trực tiếp và cá nhân với người khác\, cảm thông và động lòng trắc ẩn\, và để cho những đau khổ của họ trở thành đau khổ của chính chúng ta khi chúng ta tìm cách phục vụ họ (x. Lc 10\,30-35). \n3. Kế tiếp Ngài cho biết: “Bệnh tật luôn có nhiều hơn một khuôn mặt: nó có khuôn mặt của tất cả những người bệnh\, nhưng cũng có khuôn mặt của những người cảm thấy bị phớt lờ\, bị loại trừ và làm mồi cho những bất công xã hội đã từ chối các quyền cơ bản của họ (x. Fratelli Tutti\, 22). Đầu tư nguồn lực vào việc chăm sóc và trợ giúp người bệnh là một ưu tiên được liên kết với nguyên tắc cơ bản là sức khỏe là công ích hàng đầu.  \n4. Tình liên đới và tương quan huynh đệ \nỞ đây\, tôi muốn đề cập đến tầm quan trọng của tình liên đới huynh đệ\, được thể hiện cách cụ thể trong phục vụ và có thể được thực hiện dưới nhiều hình thức khác nhau\, tất cả đều hướng đến việc hỗ trợ những người lân cận của chúng ta. “Phục vụ có nghĩa là chăm sóc… cho những người dễ bị tổn thương trong gia đình\, trong xã hội và trong người dân của chúng ta” (Bài giảng ở Havana\, ngày 20/9/2015). Phục vụ là luôn nhìn vào khuôn mặt của người anh em\, đụng chạm vào da thịt họ\, cảm nhận sự gần gũi của họ và thậm chí trong một số trường hợp\, ‘chịu đựng đau khổ của họ’\, và tìm cách thăng tiến họ. Phục vụ không bao giờ là ý thức hệ\, vì chúng ta không phục vụ các ý tưởng nhưng phục vụ con người.”(sđd). \n5. Để một cách thế trị liệu có hiệu quả\, nó phải có khía cạnh tương quan\, vì điều này cho phép một cách tiếp cận toàn diện với bệnh nhân. Việc nhấn mạnh khía cạnh này có thể giúp các bác sĩ\, y tá\, chuyên viên và tình nguyện viên cảm thấy có trách nhiệm đồng hành cùng bệnh nhân trên con đường chữa bệnh dựa trên mối quan hệ tin cậy giữa các cá nhân (x. Điều lệ mới dành cho nhân viên chăm sóc sức khỏe [2016]\, 4). Điều này tạo ra một hiệp ước giữa những người cần được chăm sóc và những người cung cấp dịch vụ chăm sóc đó\, một hiệp ước dựa trên sự tin tưởng và tôn trọng lẫn nhau\, sự cởi mở và sẵn sàng. Điều này sẽ giúp khắc phục thái độ phòng thủ\, giúp tôn trọng nhân phẩm của người bệnh\, bảo vệ tính chuyên nghiệp của nhân viên y tế và thúc đẩy mối quan hệ tốt đẹp với gia đình người bệnh. \n6. Cuối cùng Đức Thánh Cha kết luận: “Anh chị em thân mến\, giới răn yêu thương mà Chúa Giê-su để lại cho các môn đệ của Người cũng được thực thi cụ thể trong tương quan của chúng ta với bệnh nhân. Một xã hội càng nhân văn hơn thì càng biết chăm sóc cách hiệu quả cho các thành viên yếu đuối và đau khổ nhất của mình trong tinh thần yêu thương huynh đệ. Chúng ta hãy cố gắng đạt được mục tiêu này\, để không ai cảm thấy đơn độc\, bị loại trừ hoặc bị bỏ rơi. \nTôi phó dâng các bệnh nhân\, các nhân viên y tế và tất cả những người quảng đại trợ giúp các anh chị em đau khổ của chúng ta cho Đức Maria\, Mẹ của lòng Thương xót và Sức khỏe của bệnh nhân. Từ hang đá Lộ Đức và từ vô số đền thánh dâng kính Đức Mẹ trên thế giới\, xin Mẹ nâng đỡ đức tin và đức cậy của chúng ta và giúp chúng ta chăm sóc cho tha nhân với tình yêu huynh đệ. Tôi chân thành ban phép lành cho từng người và tất cả anh chị em. \nRoma\, đền thờ thánh Gioan Laterano\, 20/12/2020\,\nChúa Nhật thứ IV mùa Vọng
URL:https://sotayconggiao.com/event/duc-me-lo-duc-tr-ngay-quoc-te-benh-nhan-thanh-toma-ngo-tuc-khuong-linh-muc-tu-dao/2027-02-11/
CATEGORIES:Lễ thường
ATTACH;FMTTYPE=image/jpeg:https://sotayconggiao.com/wp-content/uploads/2024/12/Duc-Me-Lo-Duc-Tr.-Ngay-Quoc-Te-Benh-Nhan.-Thanh-Toma-Ngo-Tuc-Khuong-linh-muc-tu-dao.jpg
END:VEVENT
BEGIN:VEVENT
DTSTART;VALUE=DATE:20270213
DTEND;VALUE=DATE:20270214
DTSTAMP:20260420T235401
CREATED:20241214T002507Z
LAST-MODIFIED:20241230T051645Z
UID:10000089-1802476800-1802563199@sotayconggiao.com
SUMMARY:Thánh Phaolô Lê Văn Lộc\, linh mục\, tử đạo
DESCRIPTION:
URL:https://sotayconggiao.com/event/thanh-phaolo-le-van-loc-linh-muc-tu-dao/2027-02-13/
CATEGORIES:Lễ thường
ATTACH;FMTTYPE=image/jpeg:https://sotayconggiao.com/wp-content/uploads/2024/12/maxresdefault.jpg
END:VEVENT
BEGIN:VEVENT
DTSTART;VALUE=DATE:20270214
DTEND;VALUE=DATE:20270215
DTSTAMP:20260420T235401
CREATED:20241214T002116Z
LAST-MODIFIED:20260204T084854Z
UID:10001057-1802563200-1802649599@sotayconggiao.com
SUMMARY:Chúa nhật V thường niên. Thánh Vịnh Tuần I
DESCRIPTION:
URL:https://sotayconggiao.com/event/chua-nhat-v-thuong-nien-thanh-vinh-tuan-i/2027-02-14/
CATEGORIES:Lễ Trọng
END:VEVENT
BEGIN:VEVENT
DTSTART;VALUE=DATE:20270214
DTEND;VALUE=DATE:20270215
DTSTAMP:20260420T235401
CREATED:20241214T002651Z
LAST-MODIFIED:20241230T051704Z
UID:10000093-1802563200-1802649599@sotayconggiao.com
SUMMARY:Thánh Cyrillô\, đan sĩ và thánh Mêthôđiô\, giám mục
DESCRIPTION:
URL:https://sotayconggiao.com/event/thanh-cyrillo-dan-si-va-thanh-methodio-giam-muc/2027-02-14/
CATEGORIES:Lễ Nhớ
ATTACH;FMTTYPE=image/jpeg:https://sotayconggiao.com/wp-content/uploads/2024/12/CN-VI-TN-T2-Cyrillo-Methodio-Copy.jpg
END:VEVENT
BEGIN:VEVENT
DTSTART;VALUE=DATE:20270214
DTEND;VALUE=DATE:20270215
DTSTAMP:20260420T235401
CREATED:20250214T050443Z
LAST-MODIFIED:20250214T174744Z
UID:10000596-1802563200-1802649599@sotayconggiao.com
SUMMARY:Thánh Melchor Garcia Sampedro Xuyên\, giám mục\, tử đạo († 1858)
DESCRIPTION:
URL:https://sotayconggiao.com/event/thanh-melchor-garcia-sampedro-xuyen-giam-muc-tu-dao-%e2%80%a0-1858/2027-02-14/
CATEGORIES:Lễ thường
ATTACH;FMTTYPE=image/png:https://sotayconggiao.com/wp-content/uploads/2024/10/Hanh-Thanh-Melchior-Garcia-Sampedro-Xuyen.png
END:VEVENT
BEGIN:VEVENT
DTSTART;VALUE=DATE:20270221
DTEND;VALUE=DATE:20270222
DTSTAMP:20260420T235401
CREATED:20241214T002808Z
LAST-MODIFIED:20250214T175847Z
UID:10000999-1803168000-1803254399@sotayconggiao.com
SUMMARY:Chúa nhật VI thường niên. Thánh Vịnh Tuần II
DESCRIPTION:
URL:https://sotayconggiao.com/event/chua-nhat-vi-thuong-nien-thanh-vinh-tuan-ii/2027-02-21/
CATEGORIES:Lễ Trọng
ATTACH;FMTTYPE=image/webp:https://sotayconggiao.com/wp-content/uploads/2024/12/Chua-nhat-6-nam-B.jpg-6-2-2024.webp
END:VEVENT
BEGIN:VEVENT
DTSTART;VALUE=DATE:20290331
DTEND;VALUE=DATE:20290401
DTSTAMP:20260420T235401
CREATED:20250213T083216Z
LAST-MODIFIED:20250214T181705Z
UID:10001022-1869609600-1869695999@sotayconggiao.com
SUMMARY:Thứ Bảy trong tuần thứ Ba Mùa Chay
DESCRIPTION:
URL:https://sotayconggiao.com/event/thu-bay-trong-tuan-thu-ba-mua-chay/2029-03-31/
CATEGORIES:Lễ thường
ATTACH;FMTTYPE=image/jpeg:https://sotayconggiao.com/wp-content/uploads/2025/02/thu-7-sau-cn-3-mc-a-1-3-2023.jpg
END:VEVENT
END:VCALENDAR