BEGIN:VCALENDAR
VERSION:2.0
PRODID:-//Sổ Tay Công Giáo - ECPv6.8.3//NONSGML v1.0//EN
CALSCALE:GREGORIAN
METHOD:PUBLISH
X-ORIGINAL-URL:https://sotayconggiao.com
X-WR-CALDESC:Sự kiện cho Sổ Tay Công Giáo
REFRESH-INTERVAL;VALUE=DURATION:PT1H
X-Robots-Tag:noindex
X-PUBLISHED-TTL:PT1H
BEGIN:VTIMEZONE
TZID:Asia/Ho_Chi_Minh
BEGIN:STANDARD
TZOFFSETFROM:+0700
TZOFFSETTO:+0700
TZNAME:+07
DTSTART:20240101T000000
END:STANDARD
END:VTIMEZONE
BEGIN:VEVENT
DTSTART;VALUE=DATE:20241124
DTEND;VALUE=DATE:20241125
DTSTAMP:20260421T230503
CREATED:20241022T103020Z
LAST-MODIFIED:20241022T103020Z
UID:10000011-1732406400-1732492799@sotayconggiao.com
SUMMARY:Lễ Chúa Kitô Vua
DESCRIPTION:
URL:https://sotayconggiao.com/event/le-chua-kito-vua/
CATEGORIES:Lễ Trọng
END:VEVENT
BEGIN:VEVENT
DTSTART;VALUE=DATE:20241122
DTEND;VALUE=DATE:20241123
DTSTAMP:20260421T230503
CREATED:20241022T102904Z
LAST-MODIFIED:20241022T102904Z
UID:10000010-1732233600-1732319999@sotayconggiao.com
SUMMARY:Thánh Cêcilia\, Đttđ
DESCRIPTION:
URL:https://sotayconggiao.com/event/thanh-cecilia-dttd/
CATEGORIES:Lễ Nhớ
END:VEVENT
BEGIN:VEVENT
DTSTART;VALUE=DATE:20241121
DTEND;VALUE=DATE:20241122
DTSTAMP:20260421T230503
CREATED:20241022T102836Z
LAST-MODIFIED:20241022T102836Z
UID:10000009-1732147200-1732233599@sotayconggiao.com
SUMMARY:Lễ Đức Mẹ dâng mình và Đền Thánh
DESCRIPTION:
URL:https://sotayconggiao.com/event/le-duc-me-dang-minh-va-den-thanh/
CATEGORIES:Lễ Nhớ
END:VEVENT
BEGIN:VEVENT
DTSTART;VALUE=DATE:20241113
DTEND;VALUE=DATE:20241114
DTSTAMP:20260421T230503
CREATED:20241022T102756Z
LAST-MODIFIED:20241022T102756Z
UID:10000008-1731456000-1731542399@sotayconggiao.com
SUMMARY:Thánh Frances Xavier Cabrini\, Đt
DESCRIPTION:
URL:https://sotayconggiao.com/event/thanh-frances-xavier-cabrini-dt/
CATEGORIES:Lễ Nhớ
END:VEVENT
BEGIN:VEVENT
DTSTART;VALUE=DATE:20241112
DTEND;VALUE=DATE:20241113
DTSTAMP:20260421T230503
CREATED:20241022T102022Z
LAST-MODIFIED:20241022T102022Z
UID:10000007-1731369600-1731455999@sotayconggiao.com
SUMMARY:Thánh Josaphat\, Gmtđ
DESCRIPTION:
URL:https://sotayconggiao.com/event/thanh-josaphat-gmtd/
CATEGORIES:Lễ Nhớ
END:VEVENT
BEGIN:VEVENT
DTSTART;VALUE=DATE:20241111
DTEND;VALUE=DATE:20241112
DTSTAMP:20260421T230503
CREATED:20241022T101915Z
LAST-MODIFIED:20241029T113231Z
UID:10000006-1731283200-1731369599@sotayconggiao.com
SUMMARY:Thánh Martinô thành Tours\, Tiến Sĩ
DESCRIPTION:
URL:https://sotayconggiao.com/event/thanh-martino-thanh-tours-tien-si/
CATEGORIES:Lễ Nhớ
ATTACH;FMTTYPE=image/jpeg:https://sotayconggiao.com/wp-content/uploads/2024/10/Thanh-Martino-thanh-Tours.jpg
END:VEVENT
BEGIN:VEVENT
DTSTART;VALUE=DATE:20241110
DTEND;VALUE=DATE:20241111
DTSTAMP:20260421T230503
CREATED:20241022T105147Z
LAST-MODIFIED:20241022T105147Z
UID:10000031-1731196800-1731283199@sotayconggiao.com
SUMMARY:Chúa Nhật thứ Ba Mươi-Hai Mùa Quanh Năm
DESCRIPTION:
URL:https://sotayconggiao.com/event/chua-nhat-thu-ba-muoi-hai-mua-quanh-nam/
CATEGORIES:Lễ Trọng,Thường Niên
END:VEVENT
BEGIN:VEVENT
DTSTART;VALUE=DATE:20241109
DTEND;VALUE=DATE:20241110
DTSTAMP:20260421T230503
CREATED:20241022T101713Z
LAST-MODIFIED:20241029T112125Z
UID:10000005-1731110400-1731196799@sotayconggiao.com
SUMMARY:Lễ cung hiền đền thờ Thánh Gioan Latêranô
DESCRIPTION:
URL:https://sotayconggiao.com/event/le-cung-hien-den-tho-thanh-gioan-laterano/
CATEGORIES:Lễ Kính,Thường Niên
ATTACH;FMTTYPE=image/jpeg:https://sotayconggiao.com/wp-content/uploads/2024/10/Le-cung-hien-den-tho-Thanh-Gioan-Laterano.jpg
END:VEVENT
BEGIN:VEVENT
DTSTART;VALUE=DATE:20241104
DTEND;VALUE=DATE:20241105
DTSTAMP:20260421T230503
CREATED:20241022T104843Z
LAST-MODIFIED:20241029T111949Z
UID:10000030-1730678400-1730764799@sotayconggiao.com
SUMMARY:Thánh Charles Borromeo\, Tiến Sĩ
DESCRIPTION:
URL:https://sotayconggiao.com/event/thanh-charles-borromeo-tien-si/
CATEGORIES:Lễ Nhớ,Thường Niên
ATTACH;FMTTYPE=image/jpeg:https://sotayconggiao.com/wp-content/uploads/2024/10/Thanh-Charles-Borromeo.jpg
END:VEVENT
BEGIN:VEVENT
DTSTART;VALUE=DATE:20241103
DTEND;VALUE=DATE:20241104
DTSTAMP:20260421T230503
CREATED:20241022T101444Z
LAST-MODIFIED:20241022T104738Z
UID:10000004-1730592000-1730678399@sotayconggiao.com
SUMMARY:Chúa Nhật thứ Ba Mươi-Nhất Mùa Quanh Năm
DESCRIPTION:
URL:https://sotayconggiao.com/event/chua-nhat-thu-ba-muoi-nhat-mua-quanh-nam/
CATEGORIES:Lễ Trọng,Ngày Lễ,Thường Niên
END:VEVENT
BEGIN:VEVENT
DTSTART;VALUE=DATE:20241102
DTEND;VALUE=DATE:20241103
DTSTAMP:20260421T230503
CREATED:20241022T101313Z
LAST-MODIFIED:20241029T122654Z
UID:10000003-1730505600-1730591999@sotayconggiao.com
SUMMARY:Lễ Các Đẳng Linh Hồn
DESCRIPTION:Có thể bạn quan tâm					\n					\n							            \n\n			\n        \n\n		\n						\n				\n				\n					\n\n	\n		\n							\n					                        \n						\n							\n		\n		        \n						\n			\n\n			        \n			\n			\n\n			Blog Công Giáo			\n        \n		CÁC TẬP TỤC CỦA NGƯỜI CÔNG GIÁO VỀ CÁI CHẾT VÀ TANG LỄ\n							\n					            \n				Blog Công Giáo\n			\n							\n			\n							\n											\n							WGPHT (15/01/2026) – Bài viết trình bày cách ngắn gọn và mạch lạc các tập tục của Hội thánh Công…						\n														\n			\n					\n	\n\n\n\n	\n		\n							\n					                        \n						\n							\n		\n		        \n						\n			\n\n			        \n			\n			\n\n			Blog Công Giáo			\n        \n		Những Lời Chia Buồn Đám Tang Công Giáo Chân Thành và Ý Nghĩa\n							\n					            \n				Blog Công Giáo\n			\n							\n			\n							\n											\n							Những Lời Chia Buồn Đám Tang Công Giáo Chân Thành và Ý Nghĩa Khi một người thân yêu ra đi\, nỗi đau…						\n														\n			\n					\n	\n\n\n\n	\n		\n							\n					                        \n						\n							\n		\n		        \n						\n			\n\n			        \n			\n			\n\n			Các Kinh Công Giáo			\n        \n		Cách Đọc Kinh Cho Đám Giỗ\n							\n					            \n				Các Kinh Công Giáo\n			\n							\n			\n							\n											\n							Chú Thích: Khi bạn đọc đến      là tên thánh của linh hồn bạn đang cầu nguyện. Nếu đám giỗ cho hai…
URL:https://sotayconggiao.com/event/le-cac-dang-linh-hon/
CATEGORIES:Lễ Trọng,Ngày Lễ,Thường Niên
ATTACH;FMTTYPE=image/jpeg:https://sotayconggiao.com/wp-content/uploads/2024/10/cn-xxxi-tn-t4-linhhon-4-748x420-1.jpg
END:VEVENT
BEGIN:VEVENT
DTSTART;VALUE=DATE:20241101
DTEND;VALUE=DATE:20241102
DTSTAMP:20260421T230503
CREATED:20241022T101154Z
LAST-MODIFIED:20241029T122130Z
UID:10000002-1730419200-1730505599@sotayconggiao.com
SUMMARY:Lễ Các Thánh
DESCRIPTION:Có thể bạn quan tâm					\n					\n							            \n\n			\n        \n\n		\n						\n				\n				\n					\n\n	\n		\n							\n					                        \n						\n							\n		\n		        \n						\n			\n\n			        \n			\n			\n\n			Phụng Vụ Chư Thánh			\n        \n		Ngày 25/04: Thánh sử Marcô\, tác giả sách Tin mừng\n							\n					            \n				Phụng Vụ Chư Thánh\n			\n							\n			\n			\n					\n	\n\n\n\n	\n		\n							\n					                        \n						\n							\n		\n		        \n						\n			\n\n			        \n			\n			\n\n			Phụng Vụ Chư Thánh			\n        \n		Ngày 24/04: Thánh Fiđêlê đệ Sigmaringa\, tử đạo (1528-1622)\n							\n					            \n				Phụng Vụ Chư Thánh\n			\n							\n			\n			\n					\n	\n\n\n\n	\n		\n							\n					                        \n						\n							\n		\n		        \n						\n			\n\n			        \n			\n			\n\n			Phụng Vụ Chư Thánh			\n        \n		Ngày 23/04: Thánh A-đan-bét-tô | Giám mục\, Tử đạo\n							\n					            \n				Phụng Vụ Chư Thánh
URL:https://sotayconggiao.com/event/le-cac-thanh/
CATEGORIES:Lễ Trọng,Ngày Lễ,Thường Niên
ATTACH;FMTTYPE=image/jpeg:https://sotayconggiao.com/wp-content/uploads/2024/10/CN-XXX-TN-T6-CAC-THANH-NAM-NU-1-1024x576-1.jpg
END:VEVENT
BEGIN:VEVENT
DTSTART;VALUE=DATE:20241028
DTEND;VALUE=DATE:20241029
DTSTAMP:20260421T230503
CREATED:20241022T100731Z
LAST-MODIFIED:20241028T100433Z
UID:10000001-1730073600-1730159999@sotayconggiao.com
SUMMARY:Thánh Simon và Jude\, Tông Đồ
DESCRIPTION:
URL:https://sotayconggiao.com/event/thanh-simon-va-jude-tong-do/
CATEGORIES:Ngày Lễ
END:VEVENT
BEGIN:VEVENT
DTSTART;VALUE=DATE:20241027
DTEND;VALUE=DATE:20241028
DTSTAMP:20260421T230503
CREATED:20241022T104520Z
LAST-MODIFIED:20241028T100726Z
UID:10000029-1729987200-1730073599@sotayconggiao.com
SUMMARY:Chúa Nhật thứ Ba Mươi Mùa Quanh Năm
DESCRIPTION:
URL:https://sotayconggiao.com/event/chua-nhat-thu-ba-muoi-mua-quanh-nam/
CATEGORIES:Lễ Trọng,Thường Niên
END:VEVENT
END:VCALENDAR