BEGIN:VCALENDAR
VERSION:2.0
PRODID:-//Sổ Tay Công Giáo - ECPv6.8.3//NONSGML v1.0//EN
CALSCALE:GREGORIAN
METHOD:PUBLISH
X-WR-CALNAME:Sổ Tay Công Giáo
X-ORIGINAL-URL:https://sotayconggiao.com
X-WR-CALDESC:Sự kiện cho Sổ Tay Công Giáo
REFRESH-INTERVAL;VALUE=DURATION:PT1H
X-Robots-Tag:noindex
X-PUBLISHED-TTL:PT1H
BEGIN:VTIMEZONE
TZID:Asia/Ho_Chi_Minh
BEGIN:STANDARD
TZOFFSETFROM:+0700
TZOFFSETTO:+0700
TZNAME:+07
DTSTART:20270101T000000
END:STANDARD
END:VTIMEZONE
BEGIN:VEVENT
DTSTART;VALUE=DATE:20270214
DTEND;VALUE=DATE:20270215
DTSTAMP:20260423T110931
CREATED:20241214T002116Z
LAST-MODIFIED:20260204T084854Z
UID:10001057-1802563200-1802649599@sotayconggiao.com
SUMMARY:Chúa nhật V thường niên. Thánh Vịnh Tuần I
DESCRIPTION:
URL:https://sotayconggiao.com/event/chua-nhat-v-thuong-nien-thanh-vinh-tuan-i/2027-02-14/
CATEGORIES:Lễ Trọng
END:VEVENT
BEGIN:VEVENT
DTSTART;VALUE=DATE:20270221
DTEND;VALUE=DATE:20270222
DTSTAMP:20260423T110931
CREATED:20241214T002808Z
LAST-MODIFIED:20250214T175847Z
UID:10000999-1803168000-1803254399@sotayconggiao.com
SUMMARY:Chúa nhật VI thường niên. Thánh Vịnh Tuần II
DESCRIPTION:
URL:https://sotayconggiao.com/event/chua-nhat-vi-thuong-nien-thanh-vinh-tuan-ii/2027-02-21/
CATEGORIES:Lễ Trọng
ATTACH;FMTTYPE=image/webp:https://sotayconggiao.com/wp-content/uploads/2024/12/Chua-nhat-6-nam-B.jpg-6-2-2024.webp
END:VEVENT
BEGIN:VEVENT
DTSTART;VALUE=DATE:20270228
DTEND;VALUE=DATE:20270301
DTSTAMP:20260423T110931
CREATED:20241214T003244Z
LAST-MODIFIED:20250214T180119Z
UID:10001003-1803772800-1803859199@sotayconggiao.com
SUMMARY:Chúa nhật VII thường niên. Thánh Vịnh Tuần III
DESCRIPTION:
URL:https://sotayconggiao.com/event/chua-nhat-vii-thuong-nien-thanh-vinh-tuan-iii/2027-02-28/
CATEGORIES:Lễ Trọng
ATTACH;FMTTYPE=image/jpeg:https://sotayconggiao.com/wp-content/uploads/2024/12/chua-nhat-7-tn-A.jpg
END:VEVENT
END:VCALENDAR