BEGIN:VCALENDAR
VERSION:2.0
PRODID:-//Sổ Tay Công Giáo - ECPv6.8.3//NONSGML v1.0//EN
CALSCALE:GREGORIAN
METHOD:PUBLISH
X-ORIGINAL-URL:https://sotayconggiao.com
X-WR-CALDESC:Sự kiện cho Sổ Tay Công Giáo
REFRESH-INTERVAL;VALUE=DURATION:PT1H
X-Robots-Tag:noindex
X-PUBLISHED-TTL:PT1H
BEGIN:VTIMEZONE
TZID:Asia/Ho_Chi_Minh
BEGIN:STANDARD
TZOFFSETFROM:+0700
TZOFFSETTO:+0700
TZNAME:+07
DTSTART:20260101T000000
END:STANDARD
END:VTIMEZONE
BEGIN:VEVENT
DTSTART;VALUE=DATE:20261101
DTEND;VALUE=DATE:20261102
DTSTAMP:20260423T052803
CREATED:20250214T111401Z
LAST-MODIFIED:20250214T111401Z
UID:10000903-1793491200-1793577599@sotayconggiao.com
SUMMARY:Các Thánh Nam Nữ
DESCRIPTION:
URL:https://sotayconggiao.com/event/cac-thanh-nam-nu/2026-11-01/
CATEGORIES:Lễ Trọng
ATTACH;FMTTYPE=image/jpeg:https://sotayconggiao.com/wp-content/uploads/2024/10/CN-XXX-TN-T6-CAC-THANH-NAM-NU-1-1024x576-1.jpg
END:VEVENT
BEGIN:VEVENT
DTSTART;VALUE=DATE:20261115
DTEND;VALUE=DATE:20261117
DTSTAMP:20260423T052803
CREATED:20241022T105304Z
LAST-MODIFIED:20250214T195221Z
UID:10001177-1794726000-1794812399@sotayconggiao.com
SUMMARY:Chúa Nhật thứ Ba Mươi-Ba Mùa Quanh Năm
DESCRIPTION:
URL:https://sotayconggiao.com/event/chua-nhat-thu-ba-muoi-ba-mua-quanh-nam/2026-11-15/
CATEGORIES:Lễ Trọng,Thường Niên
ATTACH;FMTTYPE=image/webp:https://sotayconggiao.com/wp-content/uploads/2024/10/Chua-nhat-33-tn-nam-B-2024.webp
END:VEVENT
BEGIN:VEVENT
DTSTART;VALUE=DATE:20261116
DTEND;VALUE=DATE:20261117
DTSTAMP:20260423T052803
CREATED:20250214T172446Z
LAST-MODIFIED:20250214T172446Z
UID:10000938-1794787200-1794873599@sotayconggiao.com
SUMMARY:Thánh An-rê Trần An Dũng Lạc và các bạn\, tử đạo
DESCRIPTION:
URL:https://sotayconggiao.com/event/thanh-an-re-tran-an-dung-lac-va-cac-ban-tu-dao/2026-11-16/
CATEGORIES:Lễ Trọng
ATTACH;FMTTYPE=image/webp:https://sotayconggiao.com/wp-content/uploads/2025/02/Thanh-An-re-Tran-An-Dung-Lac-va-cac-ban-tu-dao.webp
END:VEVENT
BEGIN:VEVENT
DTSTART;VALUE=DATE:20261122
DTEND;VALUE=DATE:20261123
DTSTAMP:20260423T052803
CREATED:20250214T173239Z
LAST-MODIFIED:20250214T173240Z
UID:10000958-1795305600-1795391999@sotayconggiao.com
SUMMARY:Lễ Chúa Kitô Vua
DESCRIPTION:
URL:https://sotayconggiao.com/event/le-chua-kito-vua-2/2026-11-22/
CATEGORIES:Lễ Trọng
ATTACH;FMTTYPE=image/jpeg:https://sotayconggiao.com/wp-content/uploads/2025/02/le-chua-kito-vua-scaled-1.jpg
END:VEVENT
BEGIN:VEVENT
DTSTART;VALUE=DATE:20261129
DTEND;VALUE=DATE:20261130
DTSTAMP:20260423T052803
CREATED:20250214T173434Z
LAST-MODIFIED:20250214T173434Z
UID:10000963-1795910400-1795996799@sotayconggiao.com
SUMMARY:Chúa Nhật thứ Nhất Mùa Vọng
DESCRIPTION:
URL:https://sotayconggiao.com/event/chua-nhat-thu-nhat-mua-vong-2/2026-11-29/
CATEGORIES:Lễ Trọng
ATTACH;FMTTYPE=image/jpeg:https://sotayconggiao.com/wp-content/uploads/2025/02/chua-nhat-i-mua-vong-1.jpg
END:VEVENT
END:VCALENDAR