BEGIN:VCALENDAR
VERSION:2.0
PRODID:-//Sổ Tay Công Giáo - ECPv6.8.3//NONSGML v1.0//EN
CALSCALE:GREGORIAN
METHOD:PUBLISH
X-ORIGINAL-URL:https://sotayconggiao.com
X-WR-CALDESC:Sự kiện cho Sổ Tay Công Giáo
REFRESH-INTERVAL;VALUE=DURATION:PT1H
X-Robots-Tag:noindex
X-PUBLISHED-TTL:PT1H
BEGIN:VTIMEZONE
TZID:Asia/Ho_Chi_Minh
BEGIN:STANDARD
TZOFFSETFROM:+0700
TZOFFSETTO:+0700
TZNAME:+07
DTSTART:20250101T000000
END:STANDARD
END:VTIMEZONE
BEGIN:VEVENT
DTSTART;VALUE=DATE:20250803
DTEND;VALUE=DATE:20250804
DTSTAMP:20260424T225420
CREATED:20250214T051436Z
LAST-MODIFIED:20250214T051436Z
UID:10000625-1754179200-1754265599@sotayconggiao.com
SUMMARY:CHÚA NHẬT XVIII THƯỜNG NIÊN. Thánh vịnh tuần II
DESCRIPTION:
URL:https://sotayconggiao.com/event/chua-nhat-xviii-thuong-nien-thanh-vinh-tuan-ii/2025-08-03/
CATEGORIES:Lễ Trọng
ATTACH;FMTTYPE=image/webp:https://sotayconggiao.com/wp-content/uploads/2025/02/chua-nhat-18-tn-b-1-8-2024.webp
END:VEVENT
BEGIN:VEVENT
DTSTART;VALUE=DATE:20250810
DTEND;VALUE=DATE:20250811
DTSTAMP:20260424T225421
CREATED:20250214T052653Z
LAST-MODIFIED:20250214T052653Z
UID:10000660-1754784000-1754870399@sotayconggiao.com
SUMMARY:CHÚA NHẬT XIX THƯỜNG NIÊN. Thánh vịnh tuần III
DESCRIPTION:
URL:https://sotayconggiao.com/event/chua-nhat-xix-thuong-nien-thanh-vinh-tuan-iii/2025-08-10/
CATEGORIES:Lễ Trọng
ATTACH;FMTTYPE=image/webp:https://sotayconggiao.com/wp-content/uploads/2025/02/cn-19-tn-c-9-8-2024.webp
END:VEVENT
BEGIN:VEVENT
DTSTART;TZID=Asia/Ho_Chi_Minh:20250815T080000
DTEND;TZID=Asia/Ho_Chi_Minh:20250815T170000
DTSTAMP:20260424T225421
CREATED:20250214T053653Z
LAST-MODIFIED:20250214T053653Z
UID:10000685-1755244800-1755277200@sotayconggiao.com
SUMMARY:ĐỨC MẸ LÊN TRỜI
DESCRIPTION:
URL:https://sotayconggiao.com/event/duc-me-len-troi/2025-08-15/
CATEGORIES:Lễ Trọng
ATTACH;FMTTYPE=image/webp:https://sotayconggiao.com/wp-content/uploads/2025/02/CN-XX-TN-T2-DUCME-LEN-TROI-2-scaled-1.webp
END:VEVENT
BEGIN:VEVENT
DTSTART;VALUE=DATE:20250817
DTEND;VALUE=DATE:20250818
DTSTAMP:20260424T225421
CREATED:20250214T054054Z
LAST-MODIFIED:20250214T054054Z
UID:10000695-1755388800-1755475199@sotayconggiao.com
SUMMARY:CHÚA NHẬT XX THƯỜNG NIÊN. Thánh vịnh tuần IV. Được cử hành lễ trọng (Tr): ĐỨC MẸ HỒN XÁC LÊN TRỜI
DESCRIPTION:
URL:https://sotayconggiao.com/event/chua-nhat-xx-thuong-nien-thanh-vinh-tuan-iv-duoc-cu-hanh-le-trong-tr-duc-me-hon-xac-len-troi/2025-08-17/
CATEGORIES:Lễ Trọng
ATTACH;FMTTYPE=image/webp:https://sotayconggiao.com/wp-content/uploads/2025/02/Duc-Me-linh-hon-va-xac-len-troi.webp
END:VEVENT
BEGIN:VEVENT
DTSTART;VALUE=DATE:20250824
DTEND;VALUE=DATE:20250825
DTSTAMP:20260424T225421
CREATED:20250214T081348Z
LAST-MODIFIED:20250214T081348Z
UID:10000725-1755993600-1756079999@sotayconggiao.com
SUMMARY:CHÚA NHẬT XXI THƯỜNG NIÊN. Thánh vịnh tuần I
DESCRIPTION:
URL:https://sotayconggiao.com/event/chua-nhat-xxi-thuong-nien-thanh-vinh-tuan-i/2025-08-24/
CATEGORIES:Lễ Trọng
ATTACH;FMTTYPE=image/webp:https://sotayconggiao.com/wp-content/uploads/2025/02/Chua-nhat-21-tn-A.webp
END:VEVENT
BEGIN:VEVENT
DTSTART;VALUE=DATE:20250831
DTEND;VALUE=DATE:20250901
DTSTAMP:20260424T225421
CREATED:20250214T085341Z
LAST-MODIFIED:20250214T085341Z
UID:10000745-1756598400-1756684799@sotayconggiao.com
SUMMARY:CHÚA NHẬT XXII THƯỜNG NIÊN. Thánh vịnh tuần II
DESCRIPTION:
URL:https://sotayconggiao.com/event/chua-nhat-xxii-thuong-nien-thanh-vinh-tuan-ii/2025-08-31/
CATEGORIES:Lễ Trọng
ATTACH;FMTTYPE=image/webp:https://sotayconggiao.com/wp-content/uploads/2025/02/chua-nhat-22-tn-B.webp
END:VEVENT
END:VCALENDAR