BEGIN:VCALENDAR
VERSION:2.0
PRODID:-//Sổ Tay Công Giáo - ECPv6.8.3//NONSGML v1.0//EN
CALSCALE:GREGORIAN
METHOD:PUBLISH
X-ORIGINAL-URL:https://sotayconggiao.com
X-WR-CALDESC:Sự kiện cho Sổ Tay Công Giáo
REFRESH-INTERVAL;VALUE=DURATION:PT1H
X-Robots-Tag:noindex
X-PUBLISHED-TTL:PT1H
BEGIN:VTIMEZONE
TZID:Asia/Ho_Chi_Minh
BEGIN:STANDARD
TZOFFSETFROM:+0700
TZOFFSETTO:+0700
TZNAME:+07
DTSTART:20250101T000000
END:STANDARD
END:VTIMEZONE
BEGIN:VEVENT
DTSTART;VALUE=DATE:20250504
DTEND;VALUE=DATE:20250505
DTSTAMP:20260425T085328
CREATED:20250213T090751Z
LAST-MODIFIED:20250214T184826Z
UID:10000290-1746316800-1746403199@sotayconggiao.com
SUMMARY:CHÚA NHẬT III PHỤC SINH. Thánh Vịnh Tuần III
DESCRIPTION:
URL:https://sotayconggiao.com/event/chua-nhat-iii-phuc-sinh-thanh-vinh-tuan-iii/2025-05-04/
CATEGORIES:Lễ Trọng
ATTACH;FMTTYPE=image/webp:https://sotayconggiao.com/wp-content/uploads/2025/02/Chua-nhat-3-PS-nam-C-16-4-2024.webp
END:VEVENT
BEGIN:VEVENT
DTSTART;VALUE=DATE:20250511
DTEND;VALUE=DATE:20250512
DTSTAMP:20260425T085328
CREATED:20250213T091357Z
LAST-MODIFIED:20250214T185432Z
UID:10000301-1746921600-1747007999@sotayconggiao.com
SUMMARY:CHÚA NHẬT IV PHỤC SINH. Thánh vịnh tuần IV. CHÚA NHẬT CHÚA CHIÊN LÀNH. Cầu cho ơn thiên triệu linh mục và tu sĩ
DESCRIPTION:
URL:https://sotayconggiao.com/event/chua-nhat-iv-phuc-sinh-thanh-vinh-tuan-iv-chua-nhat-chua-chien-lanh-cau-cho-on-thien-trieu-linh-muc-va-tu-si/2025-05-11/
CATEGORIES:Lễ Trọng
ATTACH;FMTTYPE=image/jpeg:https://sotayconggiao.com/wp-content/uploads/2025/02/Chua-nhat-IV-PS-14-4-2023.jpg
END:VEVENT
BEGIN:VEVENT
DTSTART;VALUE=DATE:20250518
DTEND;VALUE=DATE:20250519
DTSTAMP:20260425T085328
CREATED:20250213T092039Z
LAST-MODIFIED:20250214T185803Z
UID:10000326-1747526400-1747612799@sotayconggiao.com
SUMMARY:CHÚA NHẬT V PHỤC SINH. Thánh Vịnh Tuần I
DESCRIPTION:
URL:https://sotayconggiao.com/event/chua-nhat-v-phuc-sinh-thanh-vinh-tuan-i/2025-05-18/
CATEGORIES:Lễ Trọng
ATTACH;FMTTYPE=image/jpeg:https://sotayconggiao.com/wp-content/uploads/2025/02/chua-nhat-V-6-5-2023.jpg
END:VEVENT
BEGIN:VEVENT
DTSTART;VALUE=DATE:20250525
DTEND;VALUE=DATE:20250526
DTSTAMP:20260425T085328
CREATED:20250213T092709Z
LAST-MODIFIED:20250214T190510Z
UID:10000351-1748131200-1748217599@sotayconggiao.com
SUMMARY:CHÚA NHẬT VI PHỤC SINH. Thánh Vịnh Tuần II
DESCRIPTION:
URL:https://sotayconggiao.com/event/chua-nhat-vi-phuc-sinh-thanh-vinh-tuan-ii/2025-05-25/
CATEGORIES:Lễ Trọng
ATTACH;FMTTYPE=image/jpeg:https://sotayconggiao.com/wp-content/uploads/2025/02/chua-nhat-VI-PS-10-5-2023.jpg
END:VEVENT
BEGIN:VEVENT
DTSTART;VALUE=DATE:20250529
DTEND;VALUE=DATE:20250530
DTSTAMP:20260425T085328
CREATED:20250213T093325Z
LAST-MODIFIED:20250214T190916Z
UID:10000371-1748476800-1748563199@sotayconggiao.com
SUMMARY:CHÚA GIÊSU LÊN TRỜI
DESCRIPTION:
URL:https://sotayconggiao.com/event/chua-giesu-len-troi/2025-05-29/
CATEGORIES:Lễ Trọng
ATTACH;FMTTYPE=image/jpeg:https://sotayconggiao.com/wp-content/uploads/2025/02/Le-Chua-len-troi-12-5-2023.jpg
END:VEVENT
END:VCALENDAR