BEGIN:VCALENDAR
VERSION:2.0
PRODID:-//Sổ Tay Công Giáo - ECPv6.8.3//NONSGML v1.0//EN
CALSCALE:GREGORIAN
METHOD:PUBLISH
X-ORIGINAL-URL:https://sotayconggiao.com
X-WR-CALDESC:Sự kiện cho Sổ Tay Công Giáo
REFRESH-INTERVAL;VALUE=DURATION:PT1H
X-Robots-Tag:noindex
X-PUBLISHED-TTL:PT1H
BEGIN:VTIMEZONE
TZID:Asia/Ho_Chi_Minh
BEGIN:STANDARD
TZOFFSETFROM:+0700
TZOFFSETTO:+0700
TZNAME:+07
DTSTART:20250101T000000
END:STANDARD
END:VTIMEZONE
BEGIN:VEVENT
DTSTART;VALUE=DATE:20250406
DTEND;VALUE=DATE:20250407
DTSTAMP:20260425T102535
CREATED:20250213T083831Z
LAST-MODIFIED:20250214T182328Z
UID:10000212-1743897600-1743983999@sotayconggiao.com
SUMMARY:CHÚA NHẬT V MÙA CHAY. Thánh Vịnh Tuần I
DESCRIPTION:
URL:https://sotayconggiao.com/event/chua-nhat-v-mua-chay-thanh-vinh-tuan-i/2025-04-06/
CATEGORIES:Lễ Trọng
ATTACH;FMTTYPE=image/jpeg:https://sotayconggiao.com/wp-content/uploads/2025/02/cn-5-mc-a-11-3-2023.jpg
END:VEVENT
BEGIN:VEVENT
DTSTART;VALUE=DATE:20250413
DTEND;VALUE=DATE:20250414
DTSTAMP:20260425T102535
CREATED:20250213T084437Z
LAST-MODIFIED:20250214T183028Z
UID:10000220-1744502400-1744588799@sotayconggiao.com
SUMMARY:CHÚA NHẬT LỄ LÁ. TƯỞNG NIỆM CUỘC THƯƠNG KHÓ CỦA CHÚA GIÊSU. Thánh vịnh tuần II
DESCRIPTION:
URL:https://sotayconggiao.com/event/chua-nhat-le-la-tuong-niem-cuoc-thuong-kho-cua-chua-giesu-thanh-vinh-tuan-ii/2025-04-13/
CATEGORIES:Lễ Trọng
ATTACH;FMTTYPE=image/jpeg:https://sotayconggiao.com/wp-content/uploads/2025/02/Chua-nhat-le-la-nam-B-22-3-2024-800x533-1.jpg
END:VEVENT
BEGIN:VEVENT
DTSTART;VALUE=DATE:20250420
DTEND;VALUE=DATE:20250421
DTSTAMP:20260425T102535
CREATED:20250213T085129Z
LAST-MODIFIED:20250214T183539Z
UID:10000240-1745107200-1745193599@sotayconggiao.com
SUMMARY:CHÚA NHẬT PHỤC SINH. MỪNG CHÚA GIÊSU SỐNG LẠI
DESCRIPTION:
URL:https://sotayconggiao.com/event/chua-nhat-phuc-sinh-mung-chua-giesu-song-lai/2025-04-20/
CATEGORIES:Lễ Trọng
ATTACH;FMTTYPE=image/jpeg:https://sotayconggiao.com/wp-content/uploads/2025/02/Chua-Phuc-sinh-2020.jpg
END:VEVENT
BEGIN:VEVENT
DTSTART;VALUE=DATE:20250427
DTEND;VALUE=DATE:20250428
DTSTAMP:20260425T102535
CREATED:20250213T085618Z
LAST-MODIFIED:20250214T183749Z
UID:10000250-1745712000-1745798399@sotayconggiao.com
SUMMARY:CHÚA NHẬT II PHỤC SINH. CHÚA NHẬT VỀ LÒNG THƯƠNG XÓT CỦA THIÊN CHÚA
DESCRIPTION:
URL:https://sotayconggiao.com/event/chua-nhat-ii-phuc-sinh-chua-nhat-ve-long-thuong-xot-cua-thien-chua/2025-04-27/
CATEGORIES:Lễ Trọng
ATTACH;FMTTYPE=image/jpeg:https://sotayconggiao.com/wp-content/uploads/2025/02/Chua-nhat-II-PS-nam-B-3-4-2024.jpg
END:VEVENT
END:VCALENDAR