BEGIN:VCALENDAR
VERSION:2.0
PRODID:-//Sổ Tay Công Giáo - ECPv6.8.3//NONSGML v1.0//EN
CALSCALE:GREGORIAN
METHOD:PUBLISH
X-WR-CALNAME:Sổ Tay Công Giáo
X-ORIGINAL-URL:https://sotayconggiao.com
X-WR-CALDESC:Sự kiện cho Sổ Tay Công Giáo
REFRESH-INTERVAL;VALUE=DURATION:PT1H
X-Robots-Tag:noindex
X-PUBLISHED-TTL:PT1H
BEGIN:VTIMEZONE
TZID:Asia/Ho_Chi_Minh
BEGIN:STANDARD
TZOFFSETFROM:+0700
TZOFFSETTO:+0700
TZNAME:+07
DTSTART:20250101T000000
END:STANDARD
END:VTIMEZONE
BEGIN:VEVENT
DTSTART;VALUE=DATE:20250801
DTEND;VALUE=DATE:20250802
DTSTAMP:20260424T181629
CREATED:20250214T051040Z
LAST-MODIFIED:20250214T051040Z
UID:10000615-1754006400-1754092799@sotayconggiao.com
SUMMARY:Thánh Alphongsô Maria Ligôri\, giám mục\, tiến sĩ Hội Thánh
DESCRIPTION:
URL:https://sotayconggiao.com/event/thanh-alphongso-maria-ligori-giam-muc-tien-si-hoi-thanh/2025-08-01/
CATEGORIES:Lễ Nhớ
ATTACH;FMTTYPE=image/jpeg:https://sotayconggiao.com/wp-content/uploads/2025/02/Alphongso-Maria-Liguori.jpg
END:VEVENT
BEGIN:VEVENT
DTSTART;VALUE=DATE:20250804
DTEND;VALUE=DATE:20250805
DTSTAMP:20260424T181629
CREATED:20250214T051644Z
LAST-MODIFIED:20250214T051644Z
UID:10000630-1754265600-1754351999@sotayconggiao.com
SUMMARY:Thánh Gioan Maria Vianney\, linh mục
DESCRIPTION:
URL:https://sotayconggiao.com/event/thanh-gioan-maria-vianney-linh-muc/2025-08-04/
CATEGORIES:Lễ Nhớ
ATTACH;FMTTYPE=image/webp:https://sotayconggiao.com/wp-content/uploads/2025/02/Thanh-Gioan-Maria-Vianney-linh-muc.webp
END:VEVENT
BEGIN:VEVENT
DTSTART;VALUE=DATE:20250808
DTEND;VALUE=DATE:20250809
DTSTAMP:20260424T181629
CREATED:20250214T052335Z
LAST-MODIFIED:20250214T052335Z
UID:10000650-1754611200-1754697599@sotayconggiao.com
SUMMARY:Thánh Đa Minh\, linh mục
DESCRIPTION:
URL:https://sotayconggiao.com/event/thanh-da-minh-linh-muc/2025-08-08/
CATEGORIES:Lễ Nhớ
ATTACH;FMTTYPE=image/webp:https://sotayconggiao.com/wp-content/uploads/2025/02/Thanh-Daminh.webp
END:VEVENT
BEGIN:VEVENT
DTSTART;VALUE=DATE:20250811
DTEND;VALUE=DATE:20250812
DTSTAMP:20260424T181629
CREATED:20250214T052847Z
LAST-MODIFIED:20250214T052847Z
UID:10000665-1754870400-1754956799@sotayconggiao.com
SUMMARY:Thánh Clara\, trinh nữ
DESCRIPTION:
URL:https://sotayconggiao.com/event/thanh-clara-trinh-nu/2025-08-11/
CATEGORIES:Lễ Nhớ
ATTACH;FMTTYPE=image/jpeg:https://sotayconggiao.com/wp-content/uploads/2025/02/Thanh-Clara-trinh-nu.jpg
END:VEVENT
BEGIN:VEVENT
DTSTART;VALUE=DATE:20250814
DTEND;VALUE=DATE:20250815
DTSTAMP:20260424T181629
CREATED:20250214T053436Z
LAST-MODIFIED:20250214T053436Z
UID:10000680-1755129600-1755215999@sotayconggiao.com
SUMMARY:Thánh Maximilianô Maria Kolbê\, linh mục\, tử đạo. Chiều: LỄ VỌNG ĐỨC MẸ LÊN TRỜI (Tr)
DESCRIPTION:
URL:https://sotayconggiao.com/event/thanh-maximiliano-maria-kolbe-linh-muc-tu-dao-chieu-le-vong-duc-me-len-troi-tr/2025-08-14/
CATEGORIES:Lễ Nhớ
ATTACH;FMTTYPE=image/jpeg:https://sotayconggiao.com/wp-content/uploads/2025/02/Thanh-Maximiliano-Maria-Kolbe-linh-muc-tu-dao.jpg
END:VEVENT
BEGIN:VEVENT
DTSTART;VALUE=DATE:20250820
DTEND;VALUE=DATE:20250821
DTSTAMP:20260424T181629
CREATED:20250214T074106Z
LAST-MODIFIED:20250214T074106Z
UID:10000705-1755648000-1755734399@sotayconggiao.com
SUMMARY:Thánh Bernarđô\, viện phụ\, tiến sĩ Hội Thánh
DESCRIPTION:
URL:https://sotayconggiao.com/event/thanh-bernardo-vien-phu-tien-si-hoi-thanh/2025-08-20/
CATEGORIES:Lễ Nhớ
ATTACH;FMTTYPE=image/jpeg:https://sotayconggiao.com/wp-content/uploads/2025/02/Thanh-Bernardo-vien-phu-tien-si-Hoi-Thanh.jpeg
END:VEVENT
BEGIN:VEVENT
DTSTART;VALUE=DATE:20250821
DTEND;VALUE=DATE:20250822
DTSTAMP:20260424T181629
CREATED:20250214T074259Z
LAST-MODIFIED:20250214T074259Z
UID:10000710-1755734400-1755820799@sotayconggiao.com
SUMMARY:Thánh Giuse Đặng Đình Viên\, linh mục\, tử đạo († 1838). Thánh Piô X\, giáo hoàng (Tr)
DESCRIPTION:
URL:https://sotayconggiao.com/event/thanh-giuse-dang-dinh-vien-linh-muc-tu-dao-%e2%80%a0-1838-thanh-pio-x-giao-hoang-tr/2025-08-21/
CATEGORIES:Lễ Nhớ
ATTACH;FMTTYPE=image/jpeg:https://sotayconggiao.com/wp-content/uploads/2025/02/Thanh-Giuse-Dang-Dinh-Vien-linh-muc-tu-dao-†-1838.-Thanh-Pio-X-giao-hoang-Tr.jpg
END:VEVENT
BEGIN:VEVENT
DTSTART;VALUE=DATE:20250822
DTEND;VALUE=DATE:20250823
DTSTAMP:20260424T181629
CREATED:20250214T074541Z
LAST-MODIFIED:20250214T074541Z
UID:10000715-1755820800-1755907199@sotayconggiao.com
SUMMARY:Đức Maria Nữ Vương
DESCRIPTION:
URL:https://sotayconggiao.com/event/duc-maria-nu-vuong/2025-08-22/
CATEGORIES:Lễ Nhớ
ATTACH;FMTTYPE=image/jpeg:https://sotayconggiao.com/wp-content/uploads/2025/02/duc-maria-nu-vuong-22-08-1024x575-1.jpg
END:VEVENT
BEGIN:VEVENT
DTSTART;VALUE=DATE:20250827
DTEND;VALUE=DATE:20250828
DTSTAMP:20260424T181629
CREATED:20250214T081913Z
LAST-MODIFIED:20250214T081913Z
UID:10000735-1756252800-1756339199@sotayconggiao.com
SUMMARY:Thánh nữ Mônica
DESCRIPTION:
URL:https://sotayconggiao.com/event/thanh-nu-monica/2025-08-27/
CATEGORIES:Lễ Nhớ
ATTACH;FMTTYPE=image/jpeg:https://sotayconggiao.com/wp-content/uploads/2025/02/Thanh-nu-Monica.jpeg
END:VEVENT
BEGIN:VEVENT
DTSTART;VALUE=DATE:20250828
DTEND;VALUE=DATE:20250829
DTSTAMP:20260424T181629
CREATED:20250214T082207Z
LAST-MODIFIED:20250214T082207Z
UID:10000740-1756339200-1756425599@sotayconggiao.com
SUMMARY:Thánh Augustinô\, giám mục\, tiến sĩ Hội Thánh
DESCRIPTION:
URL:https://sotayconggiao.com/event/thanh-augustino-giam-muc-tien-si-hoi-thanh/2025-08-28/
CATEGORIES:Lễ Nhớ
ATTACH;FMTTYPE=image/jpeg:https://sotayconggiao.com/wp-content/uploads/2025/02/Thanh-Augustino-giam-muc-tien-si-Hoi-Thanh.jpg
END:VEVENT
END:VCALENDAR