BEGIN:VCALENDAR
VERSION:2.0
PRODID:-//Sổ Tay Công Giáo - ECPv6.8.3//NONSGML v1.0//EN
CALSCALE:GREGORIAN
METHOD:PUBLISH
X-WR-CALNAME:Sổ Tay Công Giáo
X-ORIGINAL-URL:https://sotayconggiao.com
X-WR-CALDESC:Sự kiện cho Sổ Tay Công Giáo
REFRESH-INTERVAL;VALUE=DURATION:PT1H
X-Robots-Tag:noindex
X-PUBLISHED-TTL:PT1H
BEGIN:VTIMEZONE
TZID:Asia/Ho_Chi_Minh
BEGIN:STANDARD
TZOFFSETFROM:+0700
TZOFFSETTO:+0700
TZNAME:+07
DTSTART:20240101T000000
END:STANDARD
END:VTIMEZONE
BEGIN:VEVENT
DTSTART;VALUE=DATE:20241109
DTEND;VALUE=DATE:20241110
DTSTAMP:20260420T235709
CREATED:20241022T101713Z
LAST-MODIFIED:20241029T112125Z
UID:10000005-1731110400-1731196799@sotayconggiao.com
SUMMARY:Lễ cung hiền đền thờ Thánh Gioan Latêranô
DESCRIPTION:
URL:https://sotayconggiao.com/event/le-cung-hien-den-tho-thanh-gioan-laterano/
CATEGORIES:Lễ Kính,Thường Niên
ATTACH;FMTTYPE=image/jpeg:https://sotayconggiao.com/wp-content/uploads/2024/10/Le-cung-hien-den-tho-Thanh-Gioan-Laterano.jpg
END:VEVENT
BEGIN:VEVENT
DTSTART;VALUE=DATE:20241130
DTEND;VALUE=DATE:20241201
DTSTAMP:20260420T235709
CREATED:20241022T103116Z
LAST-MODIFIED:20250214T195503Z
UID:10000012-1732924800-1733011199@sotayconggiao.com
SUMMARY:Thánh Andrê\, Tông Đồ
DESCRIPTION:
URL:https://sotayconggiao.com/event/thanh-andre-tong-do/2024-11-30/
CATEGORIES:Lễ Kính
ATTACH;FMTTYPE=image/webp:https://sotayconggiao.com/wp-content/uploads/2024/10/3011-Thanh-Anre-Tong-do-7-11-2023.webp
END:VEVENT
END:VCALENDAR